BEGIN:VCALENDAR
VERSION:2.0
PRODID:NasdaqBaltic
BEGIN:VEVENT
UID:69ebddd04ef1d
DTSTART;VALUE=DATE:20260427
SEQUENCE:0
TRANSP:OPAQUE
DTEND;VALUE=DATE:20260504
URL:https://view.news.eu.nasdaq.com/view?id=b6431f131e4e064b28b46d9131f8221
 57&lang=en&src=listed
SUMMARY:Nordecon: Audited annual report
CLASS:PUBLIC
DESCRIPTION:Nordecon (NCN)\nNCN1T\nhttps://view.news.eu.nasdaq.com/view?id=
 b6431f131e4e064b28b46d9131f822157&lang=en&src=listed\n
X-MICROSOFT-CDO-ALLDAYEVENT:TRUE
DTSTAMP:20260424T211704Z
END:VEVENT
END:VCALENDAR