BEGIN:VCALENDAR
VERSION:2.0
PRODID:NasdaqBaltic
BEGIN:VEVENT
UID:69ebdd5787a7c
DTSTART;VALUE=DATE:20260428
SEQUENCE:0
TRANSP:OPAQUE
URL:https://view.news.eu.nasdaq.com/view?id=b76fc2d5e74cfcb4e5c1422e7047c8d
 9e&lang=en&src=listed
SUMMARY:Artea Bankas: Investors’ event
CLASS:PUBLIC
DESCRIPTION:Artea Bankas (ROE1)\nROE1L\nhttps://view.news.eu.nasdaq.com/vie
 w?id=b76fc2d5e74cfcb4e5c1422e7047c8d9e&lang=en&src=listed\n
X-MICROSOFT-CDO-ALLDAYEVENT:TRUE
DTSTAMP:20260424T211503Z
END:VEVENT
END:VCALENDAR