BEGIN:VCALENDAR
VERSION:2.0
PRODID:NasdaqBaltic
BEGIN:VEVENT
UID:69e92253d8267
DTSTART;VALUE=DATE:20260430
SEQUENCE:0
TRANSP:OPAQUE
URL:https://view.news.eu.nasdaq.com/view?id=bd8500c9a610c7f5282ba8900c4b13f
 84&lang=en&src=listed
SUMMARY:Amber Grid: Dividend ex-date
CLASS:PUBLIC
DESCRIPTION:Amber Grid (AMG)\nAMG1L\nhttps://view.news.eu.nasdaq.com/view?i
 d=bd8500c9a610c7f5282ba8900c4b13f84&lang=en&src=listed\n
X-MICROSOFT-CDO-ALLDAYEVENT:TRUE
DTSTAMP:20260422T193235Z
END:VEVENT
END:VCALENDAR