BEGIN:VCALENDAR
VERSION:2.0
PRODID:NasdaqBaltic
BEGIN:VEVENT
UID:69ec346dbf985
DTSTART;VALUE=DATE:20260504
SEQUENCE:0
TRANSP:OPAQUE
URL:https://view.news.eu.nasdaq.com/view?id=beb1a2cf1469b95589e176a9ac1d650
 df&lang=en&src=listed
SUMMARY:Infortar: Investors’ event
CLASS:PUBLIC
DESCRIPTION:Infortar (INF)\nINF1T\nhttps://view.news.eu.nasdaq.com/view?id=
 beb1a2cf1469b95589e176a9ac1d650df&lang=en&src=listed\n
X-MICROSOFT-CDO-ALLDAYEVENT:TRUE
DTSTAMP:20260425T032637Z
END:VEVENT
END:VCALENDAR