BEGIN:VCALENDAR
VERSION:2.0
PRODID:NasdaqBaltic
BEGIN:VEVENT
UID:69ebf08d4fa01
DTSTART;VALUE=DATE:20260520
SEQUENCE:0
TRANSP:OPAQUE
URL:https://view.news.eu.nasdaq.com/view?id=be137c07e37302d660c2c52a5ef40f0
 06&lang=en&src=listed
SUMMARY:Tallinna Vesi: Dividend payment date
CLASS:PUBLIC
DESCRIPTION:Tallinna Vesi (TVE)\nTVE1T\nhttps://view.news.eu.nasdaq.com/vie
 w?id=be137c07e37302d660c2c52a5ef40f006&lang=en&src=listed\n
X-MICROSOFT-CDO-ALLDAYEVENT:TRUE
DTSTAMP:20260424T223701Z
END:VEVENT
END:VCALENDAR