BEGIN:VCALENDAR
VERSION:2.0
PRODID:NasdaqBaltic
BEGIN:VEVENT
UID:69ebdb5fd250d
DTSTART;VALUE=DATE:20260427
SEQUENCE:0
TRANSP:OPAQUE
URL:https://view.news.eu.nasdaq.com/view?id=b770da57c9052e5e879c69cd1f9aa11
 f7&lang=en&src=notices
SUMMARY:Lietuvos Respublikos Vyriausybė: Government securities auction
CLASS:PUBLIC
DESCRIPTION:Lietuvos Respublikos Vyriausybė (LTG)\nLTGCA300031B\nLTGNA3000
 31B\nhttps://view.news.eu.nasdaq.com/view?id=b770da57c9052e5e879c69cd1f9aa
 11f7&lang=en&src=notices\n
X-MICROSOFT-CDO-ALLDAYEVENT:TRUE
DTSTAMP:20260424T210639Z
END:VEVENT
END:VCALENDAR