BEGIN:VCALENDAR
VERSION:2.0
PRODID:NasdaqBaltic
BEGIN:VEVENT
UID:69ec346d45072
DTSTART;VALUE=DATE:20260504
SEQUENCE:0
TRANSP:OPAQUE
URL:https://view.news.eu.nasdaq.com/view?id=bf7825100b2944a652cdc4c8484d945
 b1&lang=en&src=notices
SUMMARY:Lietuvos Respublikos Vyriausybė: Government securities auction
CLASS:PUBLIC
DESCRIPTION:Lietuvos Respublikos Vyriausybė (LTG)\nLTGCB27028D\nLTGNB27028
 D\nhttps://view.news.eu.nasdaq.com/view?id=bf7825100b2944a652cdc4c8484d945
 b1&lang=en&src=notices\n
X-MICROSOFT-CDO-ALLDAYEVENT:TRUE
DTSTAMP:20260425T032637Z
END:VEVENT
END:VCALENDAR