BEGIN:VCALENDAR
VERSION:2.0
PRODID:NasdaqBaltic
BEGIN:VEVENT
UID:69ebcaad87653
DTSTART;VALUE=DATE:20240501
SEQUENCE:0
TRANSP:OPAQUE
DTEND;VALUE=DATE:20260516
URL:https://view.news.eu.nasdaq.com/view?id=b5bdea89d457583087197fd92afe8a3
 f5&lang=en&src=listed
SUMMARY:Rīgas kuģu būvētava: Audited annual report
CLASS:PUBLIC
DESCRIPTION:Rīgas kuģu būvētava (RKB)\nRKB1R\nhttps://view.news.eu.nasd
 aq.com/view?id=b5bdea89d457583087197fd92afe8a3f5&lang=en&src=listed\n
X-MICROSOFT-CDO-ALLDAYEVENT:TRUE
DTSTAMP:20260424T195525Z
END:VEVENT
BEGIN:VEVENT
UID:69ebcaad8767e
DTSTART;VALUE=DATE:20260326
SEQUENCE:0
TRANSP:OPAQUE
DTEND;VALUE=DATE:20260501
URL:https://view.news.eu.nasdaq.com/view?id=b21f0315f3aa59eb6b1559660f330e5
 0d&lang=en&src=listed
SUMMARY:Attīstības finanšu institūcija Altum: Audited annual report
CLASS:PUBLIC
DESCRIPTION:Attīstības finanšu institūcija Altum (ALTM)\nhttps://view.n
 ews.eu.nasdaq.com/view?id=b21f0315f3aa59eb6b1559660f330e50d&lang=en&src=li
 sted\n
X-MICROSOFT-CDO-ALLDAYEVENT:TRUE
DTSTAMP:20260424T195525Z
END:VEVENT
BEGIN:VEVENT
UID:69ebcaad87683
DTSTART;VALUE=DATE:20260326
SEQUENCE:0
TRANSP:OPAQUE
DTEND;VALUE=DATE:20260701
URL:https://view.news.eu.nasdaq.com/view?id=bec7c8931a64b68f4488aec60704e97
 f0&lang=en&src=listed
SUMMARY:Agrova Baltics: Audited annual report
CLASS:PUBLIC
DESCRIPTION:Agrova Baltics (EGG)\nEGG\nhttps://view.news.eu.nasdaq.com/view
 ?id=bec7c8931a64b68f4488aec60704e97f0&lang=en&src=listed\n
X-MICROSOFT-CDO-ALLDAYEVENT:TRUE
DTSTAMP:20260424T195525Z
END:VEVENT
BEGIN:VEVENT
UID:69ebcaad87686
DTSTART;VALUE=DATE:20260401
SEQUENCE:0
TRANSP:OPAQUE
DTEND;VALUE=DATE:20260701
URL:https://view.news.eu.nasdaq.com/view?id=b2fb3ae8c783506ed843f3f621e9d9a
 10&lang=en&src=notices
SUMMARY:Lietuvos Respublikos Vyriausybė: Government securities auction
CLASS:PUBLIC
DESCRIPTION:Lietuvos Respublikos Vyriausybė (LTG)\nhttps://view.news.eu.na
 sdaq.com/view?id=b2fb3ae8c783506ed843f3f621e9d9a10&lang=en&src=notices\n
X-MICROSOFT-CDO-ALLDAYEVENT:TRUE
DTSTAMP:20260424T195525Z
END:VEVENT
BEGIN:VEVENT
UID:69ebcaad87689
DTSTART;VALUE=DATE:20260417
SEQUENCE:0
TRANSP:OPAQUE
DTEND;VALUE=DATE:20260425
URL:https://view.news.eu.nasdaq.com/view?id=1434775&lang=en
SUMMARY:INDEXO Banka: Public offering
CLASS:PUBLIC
DESCRIPTION:INDEXO Banka (IDXB)\nIDX1RBOND_01\nhttps://view.news.eu.nasdaq.
 com/view?id=1434775&lang=en\n
X-MICROSOFT-CDO-ALLDAYEVENT:TRUE
DTSTAMP:20260424T195525Z
END:VEVENT
BEGIN:VEVENT
UID:69ebcaad8768c
DTSTART;VALUE=DATE:20260420
SEQUENCE:0
TRANSP:OPAQUE
DTEND;VALUE=DATE:20260501
URL:https://view.news.eu.nasdaq.com/view?id=b9dfdcfc667cb5f16d2c40f4f569c91
 c5&lang=en&src=listed
SUMMARY:Longo Group: Audited annual report
CLASS:PUBLIC
DESCRIPTION:Longo Group (LNG)\nhttps://view.news.eu.nasdaq.com/view?id=b9df
 dcfc667cb5f16d2c40f4f569c91c5&lang=en&src=listed\n
X-MICROSOFT-CDO-ALLDAYEVENT:TRUE
DTSTAMP:20260424T195525Z
END:VEVENT
BEGIN:VEVENT
UID:69ebcaad8768f
DTSTART;VALUE=DATE:20260420
SEQUENCE:0
TRANSP:OPAQUE
DTEND;VALUE=DATE:20260501
URL:https://view.news.eu.nasdaq.com/view?id=bea7b4cc7fc61c8b12a37d42bd50b72
 62&lang=en&src=listed
SUMMARY:Grenardi Group: Audited annual report
CLASS:PUBLIC
DESCRIPTION:Grenardi Group (GREG)\nGREG\nhttps://view.news.eu.nasdaq.com/vi
 ew?id=bea7b4cc7fc61c8b12a37d42bd50b7262&lang=en&src=listed\n
X-MICROSOFT-CDO-ALLDAYEVENT:TRUE
DTSTAMP:20260424T195525Z
END:VEVENT
BEGIN:VEVENT
UID:69ebcaad87692
DTSTART;VALUE=DATE:20260422
SEQUENCE:0
TRANSP:OPAQUE
DTEND;VALUE=DATE:20260507
URL:https://view.news.eu.nasdaq.com/view?id=b9334a2e4257f1ce944d41c0fa399ae
 12&lang=en&src=notices
SUMMARY:VLI TIMBER: Public offering
CLASS:PUBLIC
DESCRIPTION:VLI TIMBER (VLI)\nVLIB090028FA\nhttps://view.news.eu.nasdaq.com
 /view?id=b9334a2e4257f1ce944d41c0fa399ae12&lang=en&src=notices\n
X-MICROSOFT-CDO-ALLDAYEVENT:TRUE
DTSTAMP:20260424T195525Z
END:VEVENT
BEGIN:VEVENT
UID:69ebcaad87695
DTSTART;VALUE=DATE:20260423
SEQUENCE:0
TRANSP:OPAQUE
DTEND;VALUE=DATE:20260508
URL:https://view.news.eu.nasdaq.com/view?id=b382ced668dde9e3004f33e4639172f
 b2&lang=en&src=notices
SUMMARY:Liven: Public offering
CLASS:PUBLIC
DESCRIPTION:Liven (LVN)\nLVN1T\nhttps://view.news.eu.nasdaq.com/view?id=b38
 2ced668dde9e3004f33e4639172fb2&lang=en&src=notices\n
X-MICROSOFT-CDO-ALLDAYEVENT:TRUE
DTSTAMP:20260424T195525Z
END:VEVENT
BEGIN:VEVENT
UID:69ebcaad87698
DTSTART;VALUE=DATE:20260424
SEQUENCE:0
TRANSP:OPAQUE
URL:https://view.news.eu.nasdaq.com/view?id=b6eba45bbdf4f299f6b37fded1eb4c0
 0c&lang=en&src=listed
SUMMARY:Telia Lietuva: Interim report\, 3 months
CLASS:PUBLIC
DESCRIPTION:Telia Lietuva (TEL1)\nTEL1L\nhttps://view.news.eu.nasdaq.com/vi
 ew?id=b6eba45bbdf4f299f6b37fded1eb4c00c&lang=en&src=listed\n
X-MICROSOFT-CDO-ALLDAYEVENT:TRUE
DTSTAMP:20260424T195525Z
END:VEVENT
BEGIN:VEVENT
UID:69ebcaad8769a
DTSTART;VALUE=DATE:20260424
SEQUENCE:0
TRANSP:OPAQUE
URL:https://view.news.eu.nasdaq.com/view?id=b37bfe5fcaed3afd91c12505ab61d7e
 40&lang=en&src=listed
SUMMARY:Hepsor: Audited annual report
CLASS:PUBLIC
DESCRIPTION:Hepsor (HPR)\nhttps://view.news.eu.nasdaq.com/view?id=b37bfe5fc
 aed3afd91c12505ab61d7e40&lang=en&src=listed\n
X-MICROSOFT-CDO-ALLDAYEVENT:TRUE
DTSTAMP:20260424T195525Z
END:VEVENT
BEGIN:VEVENT
UID:69ebcaad8769b
DTSTART;VALUE=DATE:20260424
SEQUENCE:0
TRANSP:OPAQUE
URL:https://view.news.eu.nasdaq.com/view?id=b28afe599f4f953f9d9a32f8d04e5a1
 24&lang=en&src=listed
SUMMARY:MADARA Cosmetics: Interim report\, 3 months
CLASS:PUBLIC
DESCRIPTION:MADARA Cosmetics (MDARA)\nLV0000101624\nhttps://view.news.eu.na
 sdaq.com/view?id=b28afe599f4f953f9d9a32f8d04e5a124&lang=en&src=listed\n
X-MICROSOFT-CDO-ALLDAYEVENT:TRUE
DTSTAMP:20260424T195525Z
END:VEVENT
BEGIN:VEVENT
UID:69ebcaad8769d
DTSTART;VALUE=DATE:20260424
SEQUENCE:0
TRANSP:OPAQUE
URL:https://view.news.eu.nasdaq.com/view?id=b65034a693a8713abaab395aed87cae
 05&lang=en&src=listed
SUMMARY:Telia Lietuva: Annual General Meeting
CLASS:PUBLIC
DESCRIPTION:Telia Lietuva (TELIA)\nTEL1L\nhttps://view.news.eu.nasdaq.com/v
 iew?id=b65034a693a8713abaab395aed87cae05&lang=en&src=listed\n
X-MICROSOFT-CDO-ALLDAYEVENT:TRUE
DTSTAMP:20260424T195525Z
END:VEVENT
BEGIN:VEVENT
UID:69ebcaad8769f
DTSTART;VALUE=DATE:20260424
SEQUENCE:0
TRANSP:OPAQUE
URL:https://view.news.eu.nasdaq.com/view?id=b65034a693a8713abaab395aed87cae
 05&lang=en&src=listed
SUMMARY:Telia Lietuva: Annual General Meeting
CLASS:PUBLIC
DESCRIPTION:Telia Lietuva (TEL1)\nTEL1L\nhttps://view.news.eu.nasdaq.com/vi
 ew?id=b65034a693a8713abaab395aed87cae05&lang=en&src=listed\n
X-MICROSOFT-CDO-ALLDAYEVENT:TRUE
DTSTAMP:20260424T195525Z
END:VEVENT
BEGIN:VEVENT
UID:69ebcaad876a1
DTSTART;VALUE=DATE:20260424
SEQUENCE:0
TRANSP:OPAQUE
URL:https://view.news.eu.nasdaq.com/view?id=b67d257a4cf6b0c7f1173f58698bae4
 c3&lang=en&src=listed
SUMMARY:Žemaitijos pienas: Annual General Meeting
CLASS:PUBLIC
DESCRIPTION:Žemaitijos pienas (ZMP)\nZMP1L\nhttps://view.news.eu.nasdaq.co
 m/view?id=b67d257a4cf6b0c7f1173f58698bae4c3&lang=en&src=listed\n
X-MICROSOFT-CDO-ALLDAYEVENT:TRUE
DTSTAMP:20260424T195525Z
END:VEVENT
BEGIN:VEVENT
UID:69ebcaad876a3
DTSTART;VALUE=DATE:20260424
SEQUENCE:0
TRANSP:OPAQUE
SUMMARY:Jungtinė centrinė kredito unija: Annual General Meeting
CLASS:PUBLIC
DESCRIPTION:Jungtinė centrinė kredito unija (KREDA)\nKREDA080033FA\n
X-MICROSOFT-CDO-ALLDAYEVENT:TRUE
DTSTAMP:20260424T195525Z
END:VEVENT
BEGIN:VEVENT
UID:69ebcaad876a5
DTSTART;VALUE=DATE:20260424
SEQUENCE:0
TRANSP:OPAQUE
URL:https://view.news.eu.nasdaq.com/view?id=bd1c8182f483e49b666634a34662714
 38&lang=en&src=listed
SUMMARY:INVL Baltic Real Estate: Annual General Meeting
CLASS:PUBLIC
DESCRIPTION:INVL Baltic Real Estate (INR)\nINR1L\nhttps://view.news.eu.nasd
 aq.com/view?id=bd1c8182f483e49b666634a3466271438&lang=en&src=listed\n
X-MICROSOFT-CDO-ALLDAYEVENT:TRUE
DTSTAMP:20260424T195525Z
END:VEVENT
BEGIN:VEVENT
UID:69ebcaad876a7
DTSTART;VALUE=DATE:20260424
SEQUENCE:0
TRANSP:OPAQUE
URL:https://view.news.eu.nasdaq.com/view?id=bbf42491e93502749026ee3c20a7b95
 91&lang=en&src=listed
SUMMARY:Siguldas ciltslietu un mākslīgās apsēklošanas stacija: Annual 
 General Meeting
CLASS:PUBLIC
DESCRIPTION:Siguldas ciltslietu un mākslīgās apsēklošanas stacija (SCM
 )\nSCM1R\nhttps://view.news.eu.nasdaq.com/view?id=bbf42491e93502749026ee3c
 20a7b9591&lang=en&src=listed\n
X-MICROSOFT-CDO-ALLDAYEVENT:TRUE
DTSTAMP:20260424T195525Z
END:VEVENT
BEGIN:VEVENT
UID:69ebcaad876a9
DTSTART;VALUE=DATE:20260424
SEQUENCE:0
TRANSP:OPAQUE
URL:https://view.news.eu.nasdaq.com/view?id=b98d7d966eb3de64c0b42bc5b008a4e
 d3&lang=en&src=listed
SUMMARY:INVL Baltic Farmland: Annual General Meeting
CLASS:PUBLIC
DESCRIPTION:INVL Baltic Farmland (INL)\nINL1L\nhttps://view.news.eu.nasdaq.
 com/view?id=b98d7d966eb3de64c0b42bc5b008a4ed3&lang=en&src=listed\n
X-MICROSOFT-CDO-ALLDAYEVENT:TRUE
DTSTAMP:20260424T195525Z
END:VEVENT
BEGIN:VEVENT
UID:69ebcaad876aa
DTSTART;VALUE=DATE:20260424
SEQUENCE:0
TRANSP:OPAQUE
URL:https://view.news.eu.nasdaq.com/view?id=bc7549e6213e0837a0df26e4bc14c0b
 37&lang=en&src=notices
SUMMARY:AB Panevezio stiklas: Initial listing/admission
CLASS:PUBLIC
DESCRIPTION:AB Panevezio stiklas (ABPS)\nABPS085029FA\nhttps://view.news.eu
 .nasdaq.com/view?id=bc7549e6213e0837a0df26e4bc14c0b37&lang=en&src=notices\
 n
X-MICROSOFT-CDO-ALLDAYEVENT:TRUE
DTSTAMP:20260424T195525Z
END:VEVENT
BEGIN:VEVENT
UID:69ebcaad876ac
DTSTART;VALUE=DATE:20260425
SEQUENCE:0
TRANSP:OPAQUE
URL:https://view.news.eu.nasdaq.com/view?id=bae8d499783bc34945de65180570cb4
 cb&lang=en&src=notices
SUMMARY:DelfinGroup: Coupon payment date
CLASS:PUBLIC
DESCRIPTION:DelfinGroup (DGR)\nDGRB100028A\nhttps://view.news.eu.nasdaq.com
 /view?id=bae8d499783bc34945de65180570cb4cb&lang=en&src=notices\n
X-MICROSOFT-CDO-ALLDAYEVENT:TRUE
DTSTAMP:20260424T195525Z
END:VEVENT
BEGIN:VEVENT
UID:69ebcaad876ae
DTSTART;VALUE=DATE:20260425
SEQUENCE:0
TRANSP:OPAQUE
URL:https://view.news.eu.nasdaq.com/view?id=b37de8ac6e6b1fab5a0e3fd2a0fbe64
 c9&lang=en&src=notices
SUMMARY:Storent Holding: Coupon payment date
CLASS:PUBLIC
DESCRIPTION:Storent Holding (STOH)\nSTOH100028A\nhttps://view.news.eu.nasda
 q.com/view?id=b37de8ac6e6b1fab5a0e3fd2a0fbe64c9&lang=en&src=notices\n
X-MICROSOFT-CDO-ALLDAYEVENT:TRUE
DTSTAMP:20260424T195525Z
END:VEVENT
BEGIN:VEVENT
UID:69ebcaad876b0
DTSTART;VALUE=DATE:20260425
SEQUENCE:0
TRANSP:OPAQUE
URL:https://view.news.eu.nasdaq.com/view?id=b6c0c110b5d9e233c3ae64bc211469a
 dc&lang=en&src=notices
SUMMARY:DelfinGroup: Coupon payment date
CLASS:PUBLIC
DESCRIPTION:DelfinGroup (DGR)\nDGRBFLOT26FB\nhttps://view.news.eu.nasdaq.co
 m/view?id=b6c0c110b5d9e233c3ae64bc211469adc&lang=en&src=notices\n
X-MICROSOFT-CDO-ALLDAYEVENT:TRUE
DTSTAMP:20260424T195525Z
END:VEVENT
BEGIN:VEVENT
UID:69ebcaad876b1
DTSTART;VALUE=DATE:20260425
SEQUENCE:0
TRANSP:OPAQUE
URL:https://view.news.eu.nasdaq.com/view?id=b6c0c110b5d9e233c3ae64bc211469a
 dc&lang=en&src=notices
SUMMARY:DelfinGroup: Coupon payment date
CLASS:PUBLIC
DESCRIPTION:DelfinGroup (DGR)\nDGRBFLOT28FA\nhttps://view.news.eu.nasdaq.co
 m/view?id=b6c0c110b5d9e233c3ae64bc211469adc&lang=en&src=notices\n
X-MICROSOFT-CDO-ALLDAYEVENT:TRUE
DTSTAMP:20260424T195525Z
END:VEVENT
BEGIN:VEVENT
UID:69ebcaad876b3
DTSTART;VALUE=DATE:20260425
SEQUENCE:0
TRANSP:OPAQUE
URL:https://view.news.eu.nasdaq.com/view?id=bc4c4842ba602cd3586754a0aaa18c4
 4f&lang=en&src=notices
SUMMARY:DelfinGroup: Coupon payment date
CLASS:PUBLIC
DESCRIPTION:DelfinGroup (DGR)\nDGRBFLOT29FA\nhttps://view.news.eu.nasdaq.co
 m/view?id=bc4c4842ba602cd3586754a0aaa18c44f&lang=en&src=notices\n
X-MICROSOFT-CDO-ALLDAYEVENT:TRUE
DTSTAMP:20260424T195525Z
END:VEVENT
END:VCALENDAR