BEGIN:VCALENDAR
VERSION:2.0
PRODID:NasdaqBaltic
BEGIN:VEVENT
UID:69e91f4ba409f
DTSTART;VALUE=DATE:20260504
SEQUENCE:0
TRANSP:OPAQUE
URL:https://view.news.eu.nasdaq.com/view?id=b545ef939df4876c79549cc5ef75ea6
 65&lang=en&src=listed
SUMMARY:LITGRID: Dividendi nimekirja fikseerimine 
CLASS:PUBLIC
DESCRIPTION:LITGRID (LGD)\nLGD1L\nhttps://view.news.eu.nasdaq.com/view?id=b
 545ef939df4876c79549cc5ef75ea665&lang=en&src=listed\n
X-MICROSOFT-CDO-ALLDAYEVENT:TRUE
DTSTAMP:20260422T191939Z
END:VEVENT
END:VCALENDAR