BEGIN:VCALENDAR
VERSION:2.0
PRODID:NasdaqBaltic
BEGIN:VEVENT
UID:69e90b19ca0e8
DTSTART;VALUE=DATE:20260427
SEQUENCE:0
TRANSP:OPAQUE
URL:https://view.news.eu.nasdaq.com/view?id=bf6665f11f3aa7a636576a9ac779a0e
 56&lang=en&src=listed
SUMMARY:Artea Bankas: Dividendi väljamakse 
CLASS:PUBLIC
DESCRIPTION:Artea Bankas (ROE1)\nROE1L\nhttps://view.news.eu.nasdaq.com/vie
 w?id=bf6665f11f3aa7a636576a9ac779a0e56&lang=en&src=listed\n
X-MICROSOFT-CDO-ALLDAYEVENT:TRUE
DTSTAMP:20260422T175329Z
END:VEVENT
END:VCALENDAR