BEGIN:VCALENDAR
VERSION:2.0
PRODID:NasdaqBaltic
BEGIN:VEVENT
UID:69ebdb6259b86
DTSTART;VALUE=DATE:20260504
SEQUENCE:0
TRANSP:OPAQUE
URL:https://view.news.eu.nasdaq.com/view?id=beb1a2cf1469b95589e176a9ac1d650
 df&lang=et&src=listed
SUMMARY:Infortar: Investorüritus 
CLASS:PUBLIC
DESCRIPTION:Infortar (INF)\nINF1T\nhttps://view.news.eu.nasdaq.com/view?id=
 beb1a2cf1469b95589e176a9ac1d650df&lang=et&src=listed\n
X-MICROSOFT-CDO-ALLDAYEVENT:TRUE
DTSTAMP:20260424T210642Z
END:VEVENT
END:VCALENDAR