BEGIN:VCALENDAR
VERSION:2.0
PRODID:NasdaqBaltic
BEGIN:VEVENT
UID:69ebc4196089f
DTSTART;VALUE=DATE:20260520
SEQUENCE:0
TRANSP:OPAQUE
URL:https://view.news.eu.nasdaq.com/view?id=b931dd1390ad8087107a407b3439336
 58&lang=en&src=listed
SUMMARY:Eternia Solar\, UAB: Võlakirjaomanike koosolek/hääletamine
CLASS:PUBLIC
DESCRIPTION:Eternia Solar\, UAB (ETERN)\nETERN100026FA\nhttps://view.news.e
 u.nasdaq.com/view?id=b931dd1390ad8087107a407b343933658&lang=en&src=listed\
 n
X-MICROSOFT-CDO-ALLDAYEVENT:TRUE
DTSTAMP:20260424T192721Z
END:VEVENT
END:VCALENDAR