BEGIN:VCALENDAR
VERSION:2.0
PRODID:NasdaqBaltic
BEGIN:VEVENT
UID:69e8f5f510889
DTSTART;VALUE=DATE:20260326
SEQUENCE:0
TRANSP:OPAQUE
DTEND;VALUE=DATE:20260501
URL:https://view.news.eu.nasdaq.com/view?id=b21f0315f3aa59eb6b1559660f330e5
 0d&lang=en&src=listed
SUMMARY:Attīstības finanšu institūcija Altum: Auditeeritud majandusaast
 a aruanne 
CLASS:PUBLIC
DESCRIPTION:Attīstības finanšu institūcija Altum (ALTM)\nhttps://view.n
 ews.eu.nasdaq.com/view?id=b21f0315f3aa59eb6b1559660f330e50d&lang=en&src=li
 sted\n
X-MICROSOFT-CDO-ALLDAYEVENT:TRUE
DTSTAMP:20260422T162317Z
END:VEVENT
BEGIN:VEVENT
UID:69e8f5f5108ae
DTSTART;VALUE=DATE:20260326
SEQUENCE:0
TRANSP:OPAQUE
DTEND;VALUE=DATE:20260701
URL:https://view.news.eu.nasdaq.com/view?id=bec7c8931a64b68f4488aec60704e97
 f0&lang=en&src=listed
SUMMARY:Agrova Baltics: Auditeeritud majandusaasta aruanne 
CLASS:PUBLIC
DESCRIPTION:Agrova Baltics (EGG)\nEGG\nhttps://view.news.eu.nasdaq.com/view
 ?id=bec7c8931a64b68f4488aec60704e97f0&lang=en&src=listed\n
X-MICROSOFT-CDO-ALLDAYEVENT:TRUE
DTSTAMP:20260422T162317Z
END:VEVENT
BEGIN:VEVENT
UID:69e8f5f5108b2
DTSTART;VALUE=DATE:20260401
SEQUENCE:0
TRANSP:OPAQUE
DTEND;VALUE=DATE:20260701
URL:https://view.news.eu.nasdaq.com/view?id=b2fb3ae8c783506ed843f3f621e9d9a
 10&lang=en&src=notices
SUMMARY:Lietuvos Respublikos Vyriausybė: Riigiväärtpaberite oksjon
CLASS:PUBLIC
DESCRIPTION:Lietuvos Respublikos Vyriausybė (LTG)\nhttps://view.news.eu.na
 sdaq.com/view?id=b2fb3ae8c783506ed843f3f621e9d9a10&lang=en&src=notices\n
X-MICROSOFT-CDO-ALLDAYEVENT:TRUE
DTSTAMP:20260422T162317Z
END:VEVENT
BEGIN:VEVENT
UID:69e8f5f5108b6
DTSTART;VALUE=DATE:20260408
SEQUENCE:0
TRANSP:OPAQUE
DTEND;VALUE=DATE:20260423
URL:https://view.news.eu.nasdaq.com/view?id=1432816&lang=et
SUMMARY:Panevėžio stiklas: Avalik pakkumine 
CLASS:PUBLIC
DESCRIPTION:Panevėžio stiklas (PNS)\nPNSBOND750\nPNSBOND850\nhttps://view
 .news.eu.nasdaq.com/view?id=1432816&lang=et\n
X-MICROSOFT-CDO-ALLDAYEVENT:TRUE
DTSTAMP:20260422T162317Z
END:VEVENT
BEGIN:VEVENT
UID:69e8f5f5108ba
DTSTART;VALUE=DATE:20260417
SEQUENCE:0
TRANSP:OPAQUE
DTEND;VALUE=DATE:20260425
URL:https://view.news.eu.nasdaq.com/view?id=1434775&lang=en
SUMMARY:INDEXO Banka: Avalik pakkumine 
CLASS:PUBLIC
DESCRIPTION:INDEXO Banka (IDXB)\nIDX1RBOND_01\nhttps://view.news.eu.nasdaq.
 com/view?id=1434775&lang=en\n
X-MICROSOFT-CDO-ALLDAYEVENT:TRUE
DTSTAMP:20260422T162317Z
END:VEVENT
BEGIN:VEVENT
UID:69e8f5f5108bc
DTSTART;VALUE=DATE:20260420
SEQUENCE:0
TRANSP:OPAQUE
DTEND;VALUE=DATE:20260501
URL:https://view.news.eu.nasdaq.com/view?id=b9dfdcfc667cb5f16d2c40f4f569c91
 c5&lang=en&src=listed
SUMMARY:Longo Group: Auditeeritud majandusaasta aruanne 
CLASS:PUBLIC
DESCRIPTION:Longo Group (LNG)\nhttps://view.news.eu.nasdaq.com/view?id=b9df
 dcfc667cb5f16d2c40f4f569c91c5&lang=en&src=listed\n
X-MICROSOFT-CDO-ALLDAYEVENT:TRUE
DTSTAMP:20260422T162317Z
END:VEVENT
BEGIN:VEVENT
UID:69e8f5f5108bf
DTSTART;VALUE=DATE:20260420
SEQUENCE:0
TRANSP:OPAQUE
DTEND;VALUE=DATE:20260501
URL:https://view.news.eu.nasdaq.com/view?id=bea7b4cc7fc61c8b12a37d42bd50b72
 62&lang=en&src=listed
SUMMARY:Grenardi Group: Auditeeritud majandusaasta aruanne 
CLASS:PUBLIC
DESCRIPTION:Grenardi Group (GREG)\nGREG\nhttps://view.news.eu.nasdaq.com/vi
 ew?id=bea7b4cc7fc61c8b12a37d42bd50b7262&lang=en&src=listed\n
X-MICROSOFT-CDO-ALLDAYEVENT:TRUE
DTSTAMP:20260422T162317Z
END:VEVENT
BEGIN:VEVENT
UID:69e8f5f5108c2
DTSTART;VALUE=DATE:20260422
SEQUENCE:0
TRANSP:OPAQUE
URL:https://view.news.eu.nasdaq.com/view?id=bd5379bab8b77109dbdf1a988f144b3
 60&lang=en&src=notices
SUMMARY:HISK: Kupongimakse kuupäev 
CLASS:PUBLIC
DESCRIPTION:HISK (HISK)\nHISK090028FA\nhttps://view.news.eu.nasdaq.com/view
 ?id=bd5379bab8b77109dbdf1a988f144b360&lang=en&src=notices\n
X-MICROSOFT-CDO-ALLDAYEVENT:TRUE
DTSTAMP:20260422T162317Z
END:VEVENT
BEGIN:VEVENT
UID:69e8f5f5108c4
DTSTART;VALUE=DATE:20260422
SEQUENCE:0
TRANSP:OPAQUE
URL:https://view.news.eu.nasdaq.com/view?id=be1c52c898c32855fab3b7c0683360e
 0b&lang=et&src=listed
SUMMARY:Coop Pank: Dividendi nimekirja fikseerimine 
CLASS:PUBLIC
DESCRIPTION:Coop Pank (CPA)\nCPA1T\nhttps://view.news.eu.nasdaq.com/view?id
 =be1c52c898c32855fab3b7c0683360e0b&lang=et&src=listed\n
X-MICROSOFT-CDO-ALLDAYEVENT:TRUE
DTSTAMP:20260422T162317Z
END:VEVENT
BEGIN:VEVENT
UID:69e8f5f5108c6
DTSTART;VALUE=DATE:20260422
SEQUENCE:0
TRANSP:OPAQUE
URL:https://view.news.eu.nasdaq.com/view?id=bdb43efabbb0a6abb980d97131284f3
 92&lang=et&src=notices
SUMMARY:Everaus Kinnisvara: Kupongimakse kuupäev 
CLASS:PUBLIC
DESCRIPTION:Everaus Kinnisvara (EVK)\nEVKB100028FA\nhttps://view.news.eu.na
 sdaq.com/view?id=bdb43efabbb0a6abb980d97131284f392&lang=et&src=notices\n
X-MICROSOFT-CDO-ALLDAYEVENT:TRUE
DTSTAMP:20260422T162317Z
END:VEVENT
BEGIN:VEVENT
UID:69e8f5f5108c8
DTSTART;VALUE=DATE:20260422
SEQUENCE:0
TRANSP:OPAQUE
URL:https://view.news.eu.nasdaq.com/view?id=b6a4ac8124bb0aa1e5434090e71a41d
 3b&lang=et&src=listed
SUMMARY:Coop Pank: Vahearuanne\, 3 kuud 
CLASS:PUBLIC
DESCRIPTION:Coop Pank (CPA)\nCPA\nhttps://view.news.eu.nasdaq.com/view?id=b
 6a4ac8124bb0aa1e5434090e71a41d3b&lang=et&src=listed\n
X-MICROSOFT-CDO-ALLDAYEVENT:TRUE
DTSTAMP:20260422T162317Z
END:VEVENT
BEGIN:VEVENT
UID:69e8f5f5108ca
DTSTART;VALUE=DATE:20260422
SEQUENCE:0
TRANSP:OPAQUE
URL:https://view.news.eu.nasdaq.com/view?id=b2bdd7f547c633f4150dfabce071611
 b9&lang=en&src=listed
SUMMARY:NEO Finance: Dividendi väljamakse 
CLASS:PUBLIC
DESCRIPTION:NEO Finance (NEOFI)\nNEOFI\nhttps://view.news.eu.nasdaq.com/vie
 w?id=b2bdd7f547c633f4150dfabce071611b9&lang=en&src=listed\n
X-MICROSOFT-CDO-ALLDAYEVENT:TRUE
DTSTAMP:20260422T162317Z
END:VEVENT
BEGIN:VEVENT
UID:69e8f5f5108cc
DTSTART;VALUE=DATE:20260422
SEQUENCE:0
TRANSP:OPAQUE
URL:https://view.news.eu.nasdaq.com/view?id=b71cfd724aa084201aa7e89c4f0944c
 0f&lang=et&src=listed
SUMMARY:EfTEN Real Estate Fund: Dividendi nimekirja fikseerimine 
CLASS:PUBLIC
DESCRIPTION:EfTEN Real Estate Fund (EFT)\nEFT1T\nhttps://view.news.eu.nasda
 q.com/view?id=b71cfd724aa084201aa7e89c4f0944c0f&lang=et&src=listed\n
X-MICROSOFT-CDO-ALLDAYEVENT:TRUE
DTSTAMP:20260422T162317Z
END:VEVENT
BEGIN:VEVENT
UID:69e8f5f5108ce
DTSTART;VALUE=DATE:20260422
SEQUENCE:0
TRANSP:OPAQUE
URL:https://view.news.eu.nasdaq.com/view?id=b45ed1fd9e572f40372fc0d57bdf089
 3b&lang=et&src=listed
SUMMARY:Coop Pank: Investorüritus 
CLASS:PUBLIC
DESCRIPTION:Coop Pank (CPA)\nCPA\nhttps://view.news.eu.nasdaq.com/view?id=b
 45ed1fd9e572f40372fc0d57bdf0893b&lang=et&src=listed\n
X-MICROSOFT-CDO-ALLDAYEVENT:TRUE
DTSTAMP:20260422T162317Z
END:VEVENT
BEGIN:VEVENT
UID:69e8f5f5108d0
DTSTART;VALUE=DATE:20260422
SEQUENCE:0
TRANSP:OPAQUE
DTEND;VALUE=DATE:20260507
URL:https://view.news.eu.nasdaq.com/view?id=b9334a2e4257f1ce944d41c0fa399ae
 12&lang=en&src=notices
SUMMARY:VLI TIMBER: Avalik pakkumine 
CLASS:PUBLIC
DESCRIPTION:VLI TIMBER (VLI)\nVLIB090028FA\nhttps://view.news.eu.nasdaq.com
 /view?id=b9334a2e4257f1ce944d41c0fa399ae12&lang=en&src=notices\n
X-MICROSOFT-CDO-ALLDAYEVENT:TRUE
DTSTAMP:20260422T162317Z
END:VEVENT
BEGIN:VEVENT
UID:69e8f5f5108d3
DTSTART;VALUE=DATE:20260423
SEQUENCE:0
TRANSP:OPAQUE
URL:https://view.news.eu.nasdaq.com/view?id=b091815ffebee95d991d1adfeb891cd
 5d&lang=et&src=listed
SUMMARY:Tallink Grupp: Vahearuanne\, 3 kuud 
CLASS:PUBLIC
DESCRIPTION:Tallink Grupp (TAL)\nTAL1T\nhttps://view.news.eu.nasdaq.com/vie
 w?id=b091815ffebee95d991d1adfeb891cd5d&lang=et&src=listed\n
X-MICROSOFT-CDO-ALLDAYEVENT:TRUE
DTSTAMP:20260422T162317Z
END:VEVENT
BEGIN:VEVENT
UID:69e8f5f5108d5
DTSTART;VALUE=DATE:20260423
SEQUENCE:0
TRANSP:OPAQUE
URL:https://view.news.eu.nasdaq.com/view?id=b3c1d667a5e4a5111df2dd57a18e505
 7a&lang=et&src=listed
SUMMARY:Harju Elekter Group: Vahearuanne\, 3 kuud 
CLASS:PUBLIC
DESCRIPTION:Harju Elekter Group (HAE)\nHAE1T\nhttps://view.news.eu.nasdaq.c
 om/view?id=b3c1d667a5e4a5111df2dd57a18e5057a&lang=et&src=listed\n
X-MICROSOFT-CDO-ALLDAYEVENT:TRUE
DTSTAMP:20260422T162317Z
END:VEVENT
BEGIN:VEVENT
UID:69e8f5f5108d7
DTSTART;VALUE=DATE:20260423
SEQUENCE:0
TRANSP:OPAQUE
URL:https://view.news.eu.nasdaq.com/view?id=b1d81c187161dc1b1907f1cab295330
 4f&lang=et&src=listed
SUMMARY:Bigbank: Vahearuanne\, 3 kuud 
CLASS:PUBLIC
DESCRIPTION:Bigbank (BIGB)\nBIGB\nhttps://view.news.eu.nasdaq.com/view?id=b
 1d81c187161dc1b1907f1cab2953304f&lang=et&src=listed\n
X-MICROSOFT-CDO-ALLDAYEVENT:TRUE
DTSTAMP:20260422T162317Z
END:VEVENT
BEGIN:VEVENT
UID:69e8f5f5108d9
DTSTART;VALUE=DATE:20260423
SEQUENCE:0
TRANSP:OPAQUE
URL:https://view.news.eu.nasdaq.com/view?id=bd68bf7b3759734a587af9025690215
 62&lang=et&src=listed
SUMMARY:Tallinna Vesi: Aktsionäride korraline üldkoosolek 
CLASS:PUBLIC
DESCRIPTION:Tallinna Vesi (TVE)\nTVE1T\nhttps://view.news.eu.nasdaq.com/vie
 w?id=bd68bf7b3759734a587af902569021562&lang=et&src=listed\n
X-MICROSOFT-CDO-ALLDAYEVENT:TRUE
DTSTAMP:20260422T162317Z
END:VEVENT
BEGIN:VEVENT
UID:69e8f5f5108da
DTSTART;VALUE=DATE:20260423
SEQUENCE:0
TRANSP:OPAQUE
URL:https://view.news.eu.nasdaq.com/view?id=bba013b5acef1add3c3481f0f3ff72b
 7f&lang=en&src=listed
SUMMARY:Agrova Baltics: Aktsionäride erakorraline üldkoosolek 
CLASS:PUBLIC
DESCRIPTION:Agrova Baltics (EGG)\nEGG\nhttps://view.news.eu.nasdaq.com/view
 ?id=bba013b5acef1add3c3481f0f3ff72b7f&lang=en&src=listed\n
X-MICROSOFT-CDO-ALLDAYEVENT:TRUE
DTSTAMP:20260422T162317Z
END:VEVENT
BEGIN:VEVENT
UID:69e8f5f5108dc
DTSTART;VALUE=DATE:20260423
SEQUENCE:0
TRANSP:OPAQUE
URL:https://view.news.eu.nasdaq.com/view?id=b50d025a84ef1d9f9519abebfe23b74
 0f&lang=et&src=listed
SUMMARY:Tallink Grupp: Investorüritus 
CLASS:PUBLIC
DESCRIPTION:Tallink Grupp (TAL)\nTAL1T\nhttps://view.news.eu.nasdaq.com/vie
 w?id=b50d025a84ef1d9f9519abebfe23b740f&lang=et&src=listed\n
X-MICROSOFT-CDO-ALLDAYEVENT:TRUE
DTSTAMP:20260422T162317Z
END:VEVENT
BEGIN:VEVENT
UID:69e8f5f5108de
DTSTART;VALUE=DATE:20260424
SEQUENCE:0
TRANSP:OPAQUE
URL:https://view.news.eu.nasdaq.com/view?id=b6eba45bbdf4f299f6b37fded1eb4c0
 0c&lang=en&src=listed
SUMMARY:Telia Lietuva: Vahearuanne\, 3 kuud 
CLASS:PUBLIC
DESCRIPTION:Telia Lietuva (TEL1)\nTEL1L\nhttps://view.news.eu.nasdaq.com/vi
 ew?id=b6eba45bbdf4f299f6b37fded1eb4c00c&lang=en&src=listed\n
X-MICROSOFT-CDO-ALLDAYEVENT:TRUE
DTSTAMP:20260422T162317Z
END:VEVENT
BEGIN:VEVENT
UID:69e8f5f5108e0
DTSTART;VALUE=DATE:20260424
SEQUENCE:0
TRANSP:OPAQUE
URL:https://view.news.eu.nasdaq.com/view?id=b37bfe5fcaed3afd91c12505ab61d7e
 40&lang=et&src=listed
SUMMARY:Hepsor: Auditeeritud majandusaasta aruanne 
CLASS:PUBLIC
DESCRIPTION:Hepsor (HPR)\nhttps://view.news.eu.nasdaq.com/view?id=b37bfe5fc
 aed3afd91c12505ab61d7e40&lang=et&src=listed\n
X-MICROSOFT-CDO-ALLDAYEVENT:TRUE
DTSTAMP:20260422T162317Z
END:VEVENT
BEGIN:VEVENT
UID:69e8f5f5108e1
DTSTART;VALUE=DATE:20260424
SEQUENCE:0
TRANSP:OPAQUE
URL:https://view.news.eu.nasdaq.com/view?id=b28afe599f4f953f9d9a32f8d04e5a1
 24&lang=en&src=listed
SUMMARY:MADARA Cosmetics: Vahearuanne\, 3 kuud 
CLASS:PUBLIC
DESCRIPTION:MADARA Cosmetics (MDARA)\nLV0000101624\nhttps://view.news.eu.na
 sdaq.com/view?id=b28afe599f4f953f9d9a32f8d04e5a124&lang=en&src=listed\n
X-MICROSOFT-CDO-ALLDAYEVENT:TRUE
DTSTAMP:20260422T162317Z
END:VEVENT
BEGIN:VEVENT
UID:69e8f5f5108e3
DTSTART;VALUE=DATE:20260424
SEQUENCE:0
TRANSP:OPAQUE
URL:https://view.news.eu.nasdaq.com/view?id=b65034a693a8713abaab395aed87cae
 05&lang=en&src=listed
SUMMARY:Telia Lietuva: Aktsionäride korraline üldkoosolek 
CLASS:PUBLIC
DESCRIPTION:Telia Lietuva (TELIA)\nTEL1L\nhttps://view.news.eu.nasdaq.com/v
 iew?id=b65034a693a8713abaab395aed87cae05&lang=en&src=listed\n
X-MICROSOFT-CDO-ALLDAYEVENT:TRUE
DTSTAMP:20260422T162317Z
END:VEVENT
END:VCALENDAR