BEGIN:VCALENDAR
VERSION:2.0
PRODID:NasdaqBaltic
BEGIN:VEVENT
UID:69ebdc359865e
DTSTART;VALUE=DATE:20260504
SEQUENCE:0
TRANSP:OPAQUE
URL:https://view.news.eu.nasdaq.com/view?id=b2cef218cf5347dbb2f998171874ee6
 e6&lang=en&src=listed
SUMMARY:Coop Pank: Atkarpos mokėjimo data 
CLASS:PUBLIC
DESCRIPTION:Coop Pank (CPA)\nCPAB055031A\nhttps://view.news.eu.nasdaq.com/v
 iew?id=b2cef218cf5347dbb2f998171874ee6e6&lang=en&src=listed\n
X-MICROSOFT-CDO-ALLDAYEVENT:TRUE
DTSTAMP:20260424T211013Z
END:VEVENT
END:VCALENDAR