BEGIN:VCALENDAR
VERSION:2.0
PRODID:NasdaqBaltic
BEGIN:VEVENT
UID:69ebdc54f4186
DTSTART;VALUE=DATE:20260430
SEQUENCE:0
TRANSP:OPAQUE
URL:https://view.news.eu.nasdaq.com/view?id=b834d17c5a8bffdb88abb202e26bec2
 f9&lang=lt&src=listed
SUMMARY:Žalvaris: Išpirkimo data 
CLASS:PUBLIC
DESCRIPTION:Žalvaris (ZLV)\nZLVB095026FA\nhttps://view.news.eu.nasdaq.com/
 view?id=b834d17c5a8bffdb88abb202e26bec2f9&lang=lt&src=listed\n
X-MICROSOFT-CDO-ALLDAYEVENT:TRUE
DTSTAMP:20260424T211044Z
END:VEVENT
END:VCALENDAR