BEGIN:VCALENDAR
VERSION:2.0
PRODID:NasdaqBaltic
BEGIN:VEVENT
UID:69e66e1a24676
DTSTART;VALUE=DATE:20260501
SEQUENCE:0
TRANSP:OPAQUE
SUMMARY:Neprekybos diena
CLASS:PUBLIC
DESCRIPTION:TLN: \nRIG: \nVLN: \n
X-MICROSOFT-CDO-ALLDAYEVENT:TRUE
DTSTAMP:20260420T181906Z
END:VEVENT
END:VCALENDAR