BEGIN:VCALENDAR
VERSION:2.0
PRODID:NasdaqBaltic
BEGIN:VEVENT
UID:69ebdc1f87e9b
DTSTART;VALUE=DATE:20260430
SEQUENCE:0
TRANSP:OPAQUE
URL:https://view.news.eu.nasdaq.com/view?id=b5dd6a8b383bf9cf48cfb756c26db36
 16&lang=lt&src=listed
SUMMARY:Apranga: Eilinis visuotinis akcininkų susirinkimas 
CLASS:PUBLIC
DESCRIPTION:Apranga (APG)\nAPG1L\nhttps://view.news.eu.nasdaq.com/view?id=b
 5dd6a8b383bf9cf48cfb756c26db3616&lang=lt&src=listed\n
X-MICROSOFT-CDO-ALLDAYEVENT:TRUE
DTSTAMP:20260424T210951Z
END:VEVENT
END:VCALENDAR