BEGIN:VCALENDAR
VERSION:2.0
PRODID:NasdaqBaltic
BEGIN:VEVENT
UID:69eaba7b8d36e
DTSTART;VALUE=DATE:20261106
SEQUENCE:0
TRANSP:OPAQUE
URL:https://view.news.eu.nasdaq.com/view?id=b0968d83e9fef502a14aa6aa8928b66
 a7&lang=lt&src=listed
SUMMARY:LITGRID: 9 mėnesių tarpinė informacija 
CLASS:PUBLIC
DESCRIPTION:LITGRID (LGD)\nLGD1L\nhttps://view.news.eu.nasdaq.com/view?id=b
 0968d83e9fef502a14aa6aa8928b66a7&lang=lt&src=listed\n
X-MICROSOFT-CDO-ALLDAYEVENT:TRUE
DTSTAMP:20260424T003403Z
END:VEVENT
END:VCALENDAR