BEGIN:VCALENDAR
VERSION:2.0
PRODID:NasdaqBaltic
BEGIN:VEVENT
UID:69ec354dcf91f
DTSTART;VALUE=DATE:20260427
SEQUENCE:0
TRANSP:OPAQUE
URL:https://view.news.eu.nasdaq.com/view?id=1435711&lang=en
SUMMARY:Augstsprieguma tīkls: Audituota metinė ataskaita
CLASS:PUBLIC
DESCRIPTION:Augstsprieguma tīkls (AST)\nhttps://view.news.eu.nasdaq.com/vi
 ew?id=1435711&lang=en\n
X-MICROSOFT-CDO-ALLDAYEVENT:TRUE
DTSTAMP:20260425T033021Z
END:VEVENT
END:VCALENDAR