BEGIN:VCALENDAR
VERSION:2.0
PRODID:NasdaqBaltic
BEGIN:VEVENT
UID:69e889843e4fd
DTSTART;VALUE=DATE:20260317
SEQUENCE:0
TRANSP:OPAQUE
URL:https://view.news.eu.nasdaq.com/view?id=b3d9c845e6b73764744c3bcbf6daad8
 0a&lang=en&src=listed
SUMMARY:TKM Grupp: Eilinis visuotinis akcininkų susirinkimas 
CLASS:PUBLIC
DESCRIPTION:TKM Grupp (TKM)\nTKM1T\nhttps://view.news.eu.nasdaq.com/view?id
 =b3d9c845e6b73764744c3bcbf6daad80a&lang=en&src=listed\n
X-MICROSOFT-CDO-ALLDAYEVENT:TRUE
DTSTAMP:20260422T084036Z
END:VEVENT
END:VCALENDAR