BEGIN:VCALENDAR
VERSION:2.0
PRODID:NasdaqBaltic
BEGIN:VEVENT
UID:69e88984b8a0a
DTSTART;VALUE=DATE:20260303
SEQUENCE:0
TRANSP:OPAQUE
DTEND;VALUE=DATE:20260317
URL:https://view.news.eu.nasdaq.com/view?id=b8ef2387f1a4815dd6da83dd037714a
 eb&lang=en&src=notices
SUMMARY:Apollo Group: Viešas siūlymas 
CLASS:PUBLIC
DESCRIPTION:Apollo Group (APO)\nAPOB070031A\nhttps://view.news.eu.nasdaq.co
 m/view?id=b8ef2387f1a4815dd6da83dd037714aeb&lang=en&src=notices\n
X-MICROSOFT-CDO-ALLDAYEVENT:TRUE
DTSTAMP:20260422T084036Z
END:VEVENT
END:VCALENDAR