BEGIN:VCALENDAR
VERSION:2.0
PRODID:NasdaqBaltic
BEGIN:VEVENT
UID:69e737b2f2f06
DTSTART;VALUE=DATE:20260506
SEQUENCE:0
TRANSP:OPAQUE
URL:https://view.news.eu.nasdaq.com/view?id=b6aab449cf3546c68441a18cedba991
 cb&lang=en&src=listed
SUMMARY:Linda Nektar: Eilinis visuotinis akcininkų susirinkimas 
CLASS:PUBLIC
DESCRIPTION:Linda Nektar (LINDA)\nLINDA\nhttps://view.news.eu.nasdaq.com/vi
 ew?id=b6aab449cf3546c68441a18cedba991cb&lang=en&src=listed\n
X-MICROSOFT-CDO-ALLDAYEVENT:TRUE
DTSTAMP:20260421T083914Z
END:VEVENT
END:VCALENDAR