BEGIN:VCALENDAR
VERSION:2.0
PRODID:NasdaqBaltic
BEGIN:VEVENT
UID:69e737b1ae886
DTSTART;VALUE=DATE:20260519
SEQUENCE:0
TRANSP:OPAQUE
URL:https://view.news.eu.nasdaq.com/view?id=be88b3a50bdc06851043e96da1aa478
 71&lang=en&src=listed
SUMMARY:Tallink Grupp: Eilinis visuotinis akcininkų susirinkimas 
CLASS:PUBLIC
DESCRIPTION:Tallink Grupp (TAL)\nTAL1T\nhttps://view.news.eu.nasdaq.com/vie
 w?id=be88b3a50bdc06851043e96da1aa47871&lang=en&src=listed\n
X-MICROSOFT-CDO-ALLDAYEVENT:TRUE
DTSTAMP:20260421T083913Z
END:VEVENT
END:VCALENDAR