BEGIN:VCALENDAR
VERSION:2.0
PRODID:NasdaqBaltic
BEGIN:VEVENT
UID:69e7506bf2821
DTSTART;VALUE=DATE:20260504
SEQUENCE:0
TRANSP:OPAQUE
URL:https://view.news.eu.nasdaq.com/view?id=b545ef939df4876c79549cc5ef75ea6
 65&lang=lt&src=listed
SUMMARY:LITGRID: Dividendų teisių apskaitos diena 
CLASS:PUBLIC
DESCRIPTION:LITGRID (LGD)\nLGD1L\nhttps://view.news.eu.nasdaq.com/view?id=b
 545ef939df4876c79549cc5ef75ea665&lang=lt&src=listed\n
X-MICROSOFT-CDO-ALLDAYEVENT:TRUE
DTSTAMP:20260421T102443Z
END:VEVENT
END:VCALENDAR