BEGIN:VCALENDAR
VERSION:2.0
PRODID:NasdaqBaltic
BEGIN:VEVENT
UID:69e7506646fda
DTSTART;VALUE=DATE:20260514
SEQUENCE:0
TRANSP:OPAQUE
URL:https://view.news.eu.nasdaq.com/view?id=bfa77ffda8f7b1a8f3792386e3ef6f9
 41&lang=lt&src=listed
SUMMARY:LITGRID: Dividendų mokėjimo diena 
CLASS:PUBLIC
DESCRIPTION:LITGRID (LGD)\nLGD1L\nhttps://view.news.eu.nasdaq.com/view?id=b
 fa77ffda8f7b1a8f3792386e3ef6f941&lang=lt&src=listed\n
X-MICROSOFT-CDO-ALLDAYEVENT:TRUE
DTSTAMP:20260421T102438Z
END:VEVENT
END:VCALENDAR