BEGIN:VCALENDAR
VERSION:2.0
PRODID:NasdaqBaltic
BEGIN:VEVENT
UID:69e7506c0085a
DTSTART;VALUE=DATE:20260513
SEQUENCE:0
TRANSP:OPAQUE
URL:https://view.news.eu.nasdaq.com/view?id=b3698ccfb453469b355d0529a77b85a
 15&lang=lt&src=listed
SUMMARY:Amber Grid: Dividendų mokėjimo diena 
CLASS:PUBLIC
DESCRIPTION:Amber Grid (AMG)\nAMG1L\nhttps://view.news.eu.nasdaq.com/view?i
 d=b3698ccfb453469b355d0529a77b85a15&lang=lt&src=listed\n
X-MICROSOFT-CDO-ALLDAYEVENT:TRUE
DTSTAMP:20260421T102444Z
END:VEVENT
END:VCALENDAR