BEGIN:VCALENDAR
VERSION:2.0
PRODID:NasdaqBaltic
BEGIN:VEVENT
UID:69ebdb452838f
DTSTART;VALUE=DATE:20260430
SEQUENCE:0
TRANSP:OPAQUE
URL:https://view.news.eu.nasdaq.com/view?id=bc2baf002f799aa696dfa4aca48fb5f
 8e&lang=en&src=listed
SUMMARY:Eesti Energia: Susitikimas su investuotojais 
CLASS:PUBLIC
DESCRIPTION:Eesti Energia (ESTE)\nESTE050028A\nhttps://view.news.eu.nasdaq.
 com/view?id=bc2baf002f799aa696dfa4aca48fb5f8e&lang=en&src=listed\n
X-MICROSOFT-CDO-ALLDAYEVENT:TRUE
DTSTAMP:20260424T210613Z
END:VEVENT
END:VCALENDAR