BEGIN:VCALENDAR
VERSION:2.0
PRODID:NasdaqBaltic
BEGIN:VEVENT
UID:69ebf05fc7d11
DTSTART;VALUE=DATE:20260520
SEQUENCE:0
TRANSP:OPAQUE
URL:https://view.news.eu.nasdaq.com/view?id=ba8c1c5a13a839fe20870c98697f85d
 5e&lang=lt&src=listed
SUMMARY:Sun Investment Group: Obligacijų savininkų susirinkimas/ balsavim
 as
CLASS:PUBLIC
DESCRIPTION:Sun Investment Group (SIGR)\nSIGR115026FA\nhttps://view.news.eu
 .nasdaq.com/view?id=ba8c1c5a13a839fe20870c98697f85d5e&lang=lt&src=listed\n
X-MICROSOFT-CDO-ALLDAYEVENT:TRUE
DTSTAMP:20260424T223615Z
END:VEVENT
END:VCALENDAR