BEGIN:VCALENDAR
VERSION:2.0
PRODID:NasdaqBaltic
BEGIN:VEVENT
UID:69ebdb44a2a83
DTSTART;VALUE=DATE:20260520
SEQUENCE:0
TRANSP:OPAQUE
URL:https://view.news.eu.nasdaq.com/view?id=b931dd1390ad8087107a407b3439336
 58&lang=lt&src=listed
SUMMARY:Eternia Solar\, UAB: Obligacijų savininkų susirinkimas/ balsavima
 s
CLASS:PUBLIC
DESCRIPTION:Eternia Solar\, UAB (ETERN)\nETERN100026FA\nhttps://view.news.e
 u.nasdaq.com/view?id=b931dd1390ad8087107a407b343933658&lang=lt&src=listed\
 n
X-MICROSOFT-CDO-ALLDAYEVENT:TRUE
DTSTAMP:20260424T210612Z
END:VEVENT
END:VCALENDAR