BEGIN:VCALENDAR
VERSION:2.0
PRODID:NasdaqBaltic
BEGIN:VEVENT
UID:69e90c67def1b
DTSTART;VALUE=DATE:20260326
SEQUENCE:0
TRANSP:OPAQUE
DTEND;VALUE=DATE:20260501
URL:https://view.news.eu.nasdaq.com/view?id=b21f0315f3aa59eb6b1559660f330e5
 0d&lang=en&src=listed
SUMMARY:Attīstības finanšu institūcija Altum: Audituota metinė ataskai
 ta
CLASS:PUBLIC
DESCRIPTION:Attīstības finanšu institūcija Altum (ALTM)\nhttps://view.n
 ews.eu.nasdaq.com/view?id=b21f0315f3aa59eb6b1559660f330e50d&lang=en&src=li
 sted\n
X-MICROSOFT-CDO-ALLDAYEVENT:TRUE
DTSTAMP:20260422T175903Z
END:VEVENT
BEGIN:VEVENT
UID:69e90c67def32
DTSTART;VALUE=DATE:20260326
SEQUENCE:0
TRANSP:OPAQUE
DTEND;VALUE=DATE:20260701
URL:https://view.news.eu.nasdaq.com/view?id=bec7c8931a64b68f4488aec60704e97
 f0&lang=en&src=listed
SUMMARY:Agrova Baltics: Audituota metinė ataskaita
CLASS:PUBLIC
DESCRIPTION:Agrova Baltics (EGG)\nEGG\nhttps://view.news.eu.nasdaq.com/view
 ?id=bec7c8931a64b68f4488aec60704e97f0&lang=en&src=listed\n
X-MICROSOFT-CDO-ALLDAYEVENT:TRUE
DTSTAMP:20260422T175903Z
END:VEVENT
BEGIN:VEVENT
UID:69e90c67def37
DTSTART;VALUE=DATE:20260401
SEQUENCE:0
TRANSP:OPAQUE
DTEND;VALUE=DATE:20260701
URL:https://view.news.eu.nasdaq.com/view?id=b2fb3ae8c783506ed843f3f621e9d9a
 10&lang=lt&src=notices
SUMMARY:Lietuvos Respublikos Vyriausybė: VVP aukcionas
CLASS:PUBLIC
DESCRIPTION:Lietuvos Respublikos Vyriausybė (LTG)\nhttps://view.news.eu.na
 sdaq.com/view?id=b2fb3ae8c783506ed843f3f621e9d9a10&lang=lt&src=notices\n
X-MICROSOFT-CDO-ALLDAYEVENT:TRUE
DTSTAMP:20260422T175903Z
END:VEVENT
BEGIN:VEVENT
UID:69e90c67def3a
DTSTART;VALUE=DATE:20260408
SEQUENCE:0
TRANSP:OPAQUE
DTEND;VALUE=DATE:20260423
URL:https://view.news.eu.nasdaq.com/view?id=1432818&lang=lt
SUMMARY:Panevėžio stiklas: Viešas siūlymas 
CLASS:PUBLIC
DESCRIPTION:Panevėžio stiklas (PNS)\nPNSBOND750\nPNSBOND850\nhttps://view
 .news.eu.nasdaq.com/view?id=1432818&lang=lt\n
X-MICROSOFT-CDO-ALLDAYEVENT:TRUE
DTSTAMP:20260422T175903Z
END:VEVENT
BEGIN:VEVENT
UID:69e90c67def3e
DTSTART;VALUE=DATE:20260417
SEQUENCE:0
TRANSP:OPAQUE
DTEND;VALUE=DATE:20260425
URL:https://view.news.eu.nasdaq.com/view?id=1434775&lang=en
SUMMARY:INDEXO Banka: Viešas siūlymas 
CLASS:PUBLIC
DESCRIPTION:INDEXO Banka (IDXB)\nIDX1RBOND_01\nhttps://view.news.eu.nasdaq.
 com/view?id=1434775&lang=en\n
X-MICROSOFT-CDO-ALLDAYEVENT:TRUE
DTSTAMP:20260422T175903Z
END:VEVENT
BEGIN:VEVENT
UID:69e90c67def40
DTSTART;VALUE=DATE:20260420
SEQUENCE:0
TRANSP:OPAQUE
DTEND;VALUE=DATE:20260501
URL:https://view.news.eu.nasdaq.com/view?id=b9dfdcfc667cb5f16d2c40f4f569c91
 c5&lang=en&src=listed
SUMMARY:Longo Group: Audituota metinė ataskaita
CLASS:PUBLIC
DESCRIPTION:Longo Group (LNG)\nhttps://view.news.eu.nasdaq.com/view?id=b9df
 dcfc667cb5f16d2c40f4f569c91c5&lang=en&src=listed\n
X-MICROSOFT-CDO-ALLDAYEVENT:TRUE
DTSTAMP:20260422T175903Z
END:VEVENT
BEGIN:VEVENT
UID:69e90c67def43
DTSTART;VALUE=DATE:20260420
SEQUENCE:0
TRANSP:OPAQUE
DTEND;VALUE=DATE:20260501
URL:https://view.news.eu.nasdaq.com/view?id=bea7b4cc7fc61c8b12a37d42bd50b72
 62&lang=en&src=listed
SUMMARY:Grenardi Group: Audituota metinė ataskaita
CLASS:PUBLIC
DESCRIPTION:Grenardi Group (GREG)\nGREG\nhttps://view.news.eu.nasdaq.com/vi
 ew?id=bea7b4cc7fc61c8b12a37d42bd50b7262&lang=en&src=listed\n
X-MICROSOFT-CDO-ALLDAYEVENT:TRUE
DTSTAMP:20260422T175903Z
END:VEVENT
BEGIN:VEVENT
UID:69e90c67def46
DTSTART;VALUE=DATE:20260422
SEQUENCE:0
TRANSP:OPAQUE
URL:https://view.news.eu.nasdaq.com/view?id=bd5379bab8b77109dbdf1a988f144b3
 60&lang=lt&src=notices
SUMMARY:HISK: Atkarpos mokėjimo data 
CLASS:PUBLIC
DESCRIPTION:HISK (HISK)\nHISK090028FA\nhttps://view.news.eu.nasdaq.com/view
 ?id=bd5379bab8b77109dbdf1a988f144b360&lang=lt&src=notices\n
X-MICROSOFT-CDO-ALLDAYEVENT:TRUE
DTSTAMP:20260422T175903Z
END:VEVENT
BEGIN:VEVENT
UID:69e90c67def48
DTSTART;VALUE=DATE:20260422
SEQUENCE:0
TRANSP:OPAQUE
URL:https://view.news.eu.nasdaq.com/view?id=be1c52c898c32855fab3b7c0683360e
 0b&lang=en&src=listed
SUMMARY:Coop Pank: Dividendų teisių apskaitos diena 
CLASS:PUBLIC
DESCRIPTION:Coop Pank (CPA)\nCPA1T\nhttps://view.news.eu.nasdaq.com/view?id
 =be1c52c898c32855fab3b7c0683360e0b&lang=en&src=listed\n
X-MICROSOFT-CDO-ALLDAYEVENT:TRUE
DTSTAMP:20260422T175903Z
END:VEVENT
BEGIN:VEVENT
UID:69e90c67def4b
DTSTART;VALUE=DATE:20260422
SEQUENCE:0
TRANSP:OPAQUE
URL:https://view.news.eu.nasdaq.com/view?id=bdb43efabbb0a6abb980d97131284f3
 92&lang=en&src=notices
SUMMARY:Everaus Kinnisvara: Atkarpos mokėjimo data 
CLASS:PUBLIC
DESCRIPTION:Everaus Kinnisvara (EVK)\nEVKB100028FA\nhttps://view.news.eu.na
 sdaq.com/view?id=bdb43efabbb0a6abb980d97131284f392&lang=en&src=notices\n
X-MICROSOFT-CDO-ALLDAYEVENT:TRUE
DTSTAMP:20260422T175903Z
END:VEVENT
BEGIN:VEVENT
UID:69e90c67def4d
DTSTART;VALUE=DATE:20260422
SEQUENCE:0
TRANSP:OPAQUE
URL:https://view.news.eu.nasdaq.com/view?id=b6a4ac8124bb0aa1e5434090e71a41d
 3b&lang=en&src=listed
SUMMARY:Coop Pank: 3 mėnesių tarpinė informacija 
CLASS:PUBLIC
DESCRIPTION:Coop Pank (CPA)\nCPA\nhttps://view.news.eu.nasdaq.com/view?id=b
 6a4ac8124bb0aa1e5434090e71a41d3b&lang=en&src=listed\n
X-MICROSOFT-CDO-ALLDAYEVENT:TRUE
DTSTAMP:20260422T175903Z
END:VEVENT
BEGIN:VEVENT
UID:69e90c67def4e
DTSTART;VALUE=DATE:20260422
SEQUENCE:0
TRANSP:OPAQUE
URL:https://view.news.eu.nasdaq.com/view?id=b2bdd7f547c633f4150dfabce071611
 b9&lang=lt&src=listed
SUMMARY:NEO Finance: Dividendų mokėjimo diena 
CLASS:PUBLIC
DESCRIPTION:NEO Finance (NEOFI)\nNEOFI\nhttps://view.news.eu.nasdaq.com/vie
 w?id=b2bdd7f547c633f4150dfabce071611b9&lang=lt&src=listed\n
X-MICROSOFT-CDO-ALLDAYEVENT:TRUE
DTSTAMP:20260422T175903Z
END:VEVENT
BEGIN:VEVENT
UID:69e90c67def50
DTSTART;VALUE=DATE:20260422
SEQUENCE:0
TRANSP:OPAQUE
URL:https://view.news.eu.nasdaq.com/view?id=b71cfd724aa084201aa7e89c4f0944c
 0f&lang=en&src=listed
SUMMARY:EfTEN Real Estate Fund: Dividendų teisių apskaitos diena 
CLASS:PUBLIC
DESCRIPTION:EfTEN Real Estate Fund (EFT)\nEFT1T\nhttps://view.news.eu.nasda
 q.com/view?id=b71cfd724aa084201aa7e89c4f0944c0f&lang=en&src=listed\n
X-MICROSOFT-CDO-ALLDAYEVENT:TRUE
DTSTAMP:20260422T175903Z
END:VEVENT
BEGIN:VEVENT
UID:69e90c67def52
DTSTART;VALUE=DATE:20260422
SEQUENCE:0
TRANSP:OPAQUE
URL:https://view.news.eu.nasdaq.com/view?id=b45ed1fd9e572f40372fc0d57bdf089
 3b&lang=en&src=listed
SUMMARY:Coop Pank: Susitikimas su investuotojais 
CLASS:PUBLIC
DESCRIPTION:Coop Pank (CPA)\nCPA\nhttps://view.news.eu.nasdaq.com/view?id=b
 45ed1fd9e572f40372fc0d57bdf0893b&lang=en&src=listed\n
X-MICROSOFT-CDO-ALLDAYEVENT:TRUE
DTSTAMP:20260422T175903Z
END:VEVENT
BEGIN:VEVENT
UID:69e90c67def54
DTSTART;VALUE=DATE:20260422
SEQUENCE:0
TRANSP:OPAQUE
DTEND;VALUE=DATE:20260507
URL:https://view.news.eu.nasdaq.com/view?id=b9334a2e4257f1ce944d41c0fa399ae
 12&lang=lt&src=notices
SUMMARY:VLI TIMBER: Viešas siūlymas 
CLASS:PUBLIC
DESCRIPTION:VLI TIMBER (VLI)\nVLIB090028FA\nhttps://view.news.eu.nasdaq.com
 /view?id=b9334a2e4257f1ce944d41c0fa399ae12&lang=lt&src=notices\n
X-MICROSOFT-CDO-ALLDAYEVENT:TRUE
DTSTAMP:20260422T175903Z
END:VEVENT
BEGIN:VEVENT
UID:69e90c67def57
DTSTART;VALUE=DATE:20260423
SEQUENCE:0
TRANSP:OPAQUE
URL:https://view.news.eu.nasdaq.com/view?id=bcbb6a7883fe9b103136823afe252a1
 cf&lang=en&src=listed
SUMMARY:Tallink Grupp: 3 mėnesių tarpinė informacija 
CLASS:PUBLIC
DESCRIPTION:Tallink Grupp (TAL)\nTAL1T\nhttps://view.news.eu.nasdaq.com/vie
 w?id=bcbb6a7883fe9b103136823afe252a1cf&lang=en&src=listed\n
X-MICROSOFT-CDO-ALLDAYEVENT:TRUE
DTSTAMP:20260422T175903Z
END:VEVENT
BEGIN:VEVENT
UID:69e90c67def59
DTSTART;VALUE=DATE:20260423
SEQUENCE:0
TRANSP:OPAQUE
URL:https://view.news.eu.nasdaq.com/view?id=b3c1d667a5e4a5111df2dd57a18e505
 7a&lang=en&src=listed
SUMMARY:Harju Elekter Group: 3 mėnesių tarpinė informacija 
CLASS:PUBLIC
DESCRIPTION:Harju Elekter Group (HAE)\nHAE1T\nhttps://view.news.eu.nasdaq.c
 om/view?id=b3c1d667a5e4a5111df2dd57a18e5057a&lang=en&src=listed\n
X-MICROSOFT-CDO-ALLDAYEVENT:TRUE
DTSTAMP:20260422T175903Z
END:VEVENT
BEGIN:VEVENT
UID:69e90c67def5b
DTSTART;VALUE=DATE:20260423
SEQUENCE:0
TRANSP:OPAQUE
URL:https://view.news.eu.nasdaq.com/view?id=b1d81c187161dc1b1907f1cab295330
 4f&lang=en&src=listed
SUMMARY:Bigbank: 3 mėnesių tarpinė informacija 
CLASS:PUBLIC
DESCRIPTION:Bigbank (BIGB)\nBIGB\nhttps://view.news.eu.nasdaq.com/view?id=b
 1d81c187161dc1b1907f1cab2953304f&lang=en&src=listed\n
X-MICROSOFT-CDO-ALLDAYEVENT:TRUE
DTSTAMP:20260422T175903Z
END:VEVENT
BEGIN:VEVENT
UID:69e90c67def5c
DTSTART;VALUE=DATE:20260423
SEQUENCE:0
TRANSP:OPAQUE
URL:https://view.news.eu.nasdaq.com/view?id=bd68bf7b3759734a587af9025690215
 62&lang=en&src=listed
SUMMARY:Tallinna Vesi: Eilinis visuotinis akcininkų susirinkimas 
CLASS:PUBLIC
DESCRIPTION:Tallinna Vesi (TVE)\nTVE1T\nhttps://view.news.eu.nasdaq.com/vie
 w?id=bd68bf7b3759734a587af902569021562&lang=en&src=listed\n
X-MICROSOFT-CDO-ALLDAYEVENT:TRUE
DTSTAMP:20260422T175903Z
END:VEVENT
BEGIN:VEVENT
UID:69e90c67def5e
DTSTART;VALUE=DATE:20260423
SEQUENCE:0
TRANSP:OPAQUE
URL:https://view.news.eu.nasdaq.com/view?id=bba013b5acef1add3c3481f0f3ff72b
 7f&lang=en&src=listed
SUMMARY:Agrova Baltics: Neeilinis visuotinis akcininkų susirinkimas 
CLASS:PUBLIC
DESCRIPTION:Agrova Baltics (EGG)\nEGG\nhttps://view.news.eu.nasdaq.com/view
 ?id=bba013b5acef1add3c3481f0f3ff72b7f&lang=en&src=listed\n
X-MICROSOFT-CDO-ALLDAYEVENT:TRUE
DTSTAMP:20260422T175903Z
END:VEVENT
BEGIN:VEVENT
UID:69e90c67def60
DTSTART;VALUE=DATE:20260423
SEQUENCE:0
TRANSP:OPAQUE
URL:https://view.news.eu.nasdaq.com/view?id=b50d025a84ef1d9f9519abebfe23b74
 0f&lang=en&src=listed
SUMMARY:Tallink Grupp: Susitikimas su investuotojais 
CLASS:PUBLIC
DESCRIPTION:Tallink Grupp (TAL)\nTAL1T\nhttps://view.news.eu.nasdaq.com/vie
 w?id=b50d025a84ef1d9f9519abebfe23b740f&lang=en&src=listed\n
X-MICROSOFT-CDO-ALLDAYEVENT:TRUE
DTSTAMP:20260422T175903Z
END:VEVENT
BEGIN:VEVENT
UID:69e90c67def62
DTSTART;VALUE=DATE:20260424
SEQUENCE:0
TRANSP:OPAQUE
URL:https://view.news.eu.nasdaq.com/view?id=b6eba45bbdf4f299f6b37fded1eb4c0
 0c&lang=lt&src=listed
SUMMARY:Telia Lietuva: 3 mėnesių tarpinė informacija 
CLASS:PUBLIC
DESCRIPTION:Telia Lietuva (TEL1)\nTEL1L\nhttps://view.news.eu.nasdaq.com/vi
 ew?id=b6eba45bbdf4f299f6b37fded1eb4c00c&lang=lt&src=listed\n
X-MICROSOFT-CDO-ALLDAYEVENT:TRUE
DTSTAMP:20260422T175903Z
END:VEVENT
BEGIN:VEVENT
UID:69e90c67def64
DTSTART;VALUE=DATE:20260424
SEQUENCE:0
TRANSP:OPAQUE
URL:https://view.news.eu.nasdaq.com/view?id=b37bfe5fcaed3afd91c12505ab61d7e
 40&lang=en&src=listed
SUMMARY:Hepsor: Audituota metinė ataskaita
CLASS:PUBLIC
DESCRIPTION:Hepsor (HPR)\nhttps://view.news.eu.nasdaq.com/view?id=b37bfe5fc
 aed3afd91c12505ab61d7e40&lang=en&src=listed\n
X-MICROSOFT-CDO-ALLDAYEVENT:TRUE
DTSTAMP:20260422T175903Z
END:VEVENT
BEGIN:VEVENT
UID:69e90c67def65
DTSTART;VALUE=DATE:20260424
SEQUENCE:0
TRANSP:OPAQUE
URL:https://view.news.eu.nasdaq.com/view?id=b28afe599f4f953f9d9a32f8d04e5a1
 24&lang=en&src=listed
SUMMARY:MADARA Cosmetics: 3 mėnesių tarpinė informacija 
CLASS:PUBLIC
DESCRIPTION:MADARA Cosmetics (MDARA)\nLV0000101624\nhttps://view.news.eu.na
 sdaq.com/view?id=b28afe599f4f953f9d9a32f8d04e5a124&lang=en&src=listed\n
X-MICROSOFT-CDO-ALLDAYEVENT:TRUE
DTSTAMP:20260422T175903Z
END:VEVENT
BEGIN:VEVENT
UID:69e90c67def67
DTSTART;VALUE=DATE:20260424
SEQUENCE:0
TRANSP:OPAQUE
URL:https://view.news.eu.nasdaq.com/view?id=b65034a693a8713abaab395aed87cae
 05&lang=lt&src=listed
SUMMARY:Telia Lietuva: Eilinis visuotinis akcininkų susirinkimas 
CLASS:PUBLIC
DESCRIPTION:Telia Lietuva (TELIA)\nTEL1L\nhttps://view.news.eu.nasdaq.com/v
 iew?id=b65034a693a8713abaab395aed87cae05&lang=lt&src=listed\n
X-MICROSOFT-CDO-ALLDAYEVENT:TRUE
DTSTAMP:20260422T175903Z
END:VEVENT
END:VCALENDAR