BEGIN:VCALENDAR
VERSION:2.0
PRODID:NasdaqBaltic
BEGIN:VEVENT
UID:69e66dd7c95f3
DTSTART;VALUE=DATE:20260501
SEQUENCE:0
TRANSP:OPAQUE
SUMMARY:Tirdzniecības brīvdiena
CLASS:PUBLIC
DESCRIPTION:TLN: \nRIG: \nVLN: \n
X-MICROSOFT-CDO-ALLDAYEVENT:TRUE
DTSTAMP:20260420T181759Z
END:VEVENT
END:VCALENDAR