BEGIN:VCALENDAR
VERSION:2.0
PRODID:NasdaqBaltic
BEGIN:VEVENT
UID:69e66ff43809a
DTSTART;VALUE=DATE:20260504
SEQUENCE:0
TRANSP:OPAQUE
SUMMARY:Tirdzniecības brīvdiena
CLASS:PUBLIC
DESCRIPTION:TLN: \nRIG: \nVLN: \n
X-MICROSOFT-CDO-ALLDAYEVENT:TRUE
DTSTAMP:20260420T182700Z
END:VEVENT
END:VCALENDAR