BEGIN:VCALENDAR
VERSION:2.0
PRODID:NasdaqBaltic
BEGIN:VEVENT
UID:69e66e97eccf1
DTSTART;VALUE=DATE:20260514
SEQUENCE:0
TRANSP:OPAQUE
SUMMARY:Tirdzniecības brīvdiena
CLASS:PUBLIC
DESCRIPTION:TLN: \nRIG: \nVLN: \n
X-MICROSOFT-CDO-ALLDAYEVENT:TRUE
DTSTAMP:20260420T182111Z
END:VEVENT
END:VCALENDAR