BEGIN:VCALENDAR
VERSION:2.0
PRODID:NasdaqBaltic
BEGIN:VEVENT
UID:69e74d7310c5c
DTSTART;VALUE=DATE:20260430
SEQUENCE:0
TRANSP:OPAQUE
URL:https://view.news.eu.nasdaq.com/view?id=bfa77ffda8f7b1a8f3792386e3ef6f9
 41&lang=en&src=listed
SUMMARY:LITGRID: Dividendes ex-datums
CLASS:PUBLIC
DESCRIPTION:LITGRID (LGD)\nLGD1L\nhttps://view.news.eu.nasdaq.com/view?id=b
 fa77ffda8f7b1a8f3792386e3ef6f941&lang=en&src=listed\n
X-MICROSOFT-CDO-ALLDAYEVENT:TRUE
DTSTAMP:20260421T101203Z
END:VEVENT
END:VCALENDAR