BEGIN:VCALENDAR
VERSION:2.0
PRODID:NasdaqBaltic
BEGIN:VEVENT
UID:69e74d7394741
DTSTART;VALUE=DATE:20260430
SEQUENCE:0
TRANSP:OPAQUE
URL:https://view.news.eu.nasdaq.com/view?id=b3698ccfb453469b355d0529a77b85a
 15&lang=en&src=listed
SUMMARY:Amber Grid: Dividendes ieraksta datums
CLASS:PUBLIC
DESCRIPTION:Amber Grid (AMG)\nAMG1L\nhttps://view.news.eu.nasdaq.com/view?i
 d=b3698ccfb453469b355d0529a77b85a15&lang=en&src=listed\n
X-MICROSOFT-CDO-ALLDAYEVENT:TRUE
DTSTAMP:20260421T101203Z
END:VEVENT
END:VCALENDAR