BEGIN:VCALENDAR
VERSION:2.0
PRODID:NasdaqBaltic
BEGIN:VEVENT
UID:69e74d72bd2f4
DTSTART;VALUE=DATE:20260417
SEQUENCE:0
TRANSP:OPAQUE
DTEND;VALUE=DATE:20260425
URL:https://view.news.eu.nasdaq.com/view?id=1434775&lang=lv
SUMMARY:INDEXO Banka: Publiskais piedāvājums
CLASS:PUBLIC
DESCRIPTION:INDEXO Banka (IDXB)\nIDX1RBOND_01\nhttps://view.news.eu.nasdaq.
 com/view?id=1434775&lang=lv\n
X-MICROSOFT-CDO-ALLDAYEVENT:TRUE
DTSTAMP:20260421T101202Z
END:VEVENT
END:VCALENDAR