BEGIN:VCALENDAR
VERSION:2.0
PRODID:NasdaqBaltic
BEGIN:VEVENT
UID:69ebc41916d4f
DTSTART;VALUE=DATE:20260423
SEQUENCE:0
TRANSP:OPAQUE
DTEND;VALUE=DATE:20260508
URL:https://view.news.eu.nasdaq.com/view?id=b382ced668dde9e3004f33e4639172f
 b2&lang=en&src=notices
SUMMARY:Liven: Publiskais piedāvājums
CLASS:PUBLIC
DESCRIPTION:Liven (LVN)\nLVN1T\nhttps://view.news.eu.nasdaq.com/view?id=b38
 2ced668dde9e3004f33e4639172fb2&lang=en&src=notices\n
X-MICROSOFT-CDO-ALLDAYEVENT:TRUE
DTSTAMP:20260424T192721Z
END:VEVENT
END:VCALENDAR