BEGIN:VCALENDAR
VERSION:2.0
PRODID:NasdaqBaltic
BEGIN:VEVENT
UID:69ec36fb8343b
DTSTART;VALUE=DATE:20240501
SEQUENCE:0
TRANSP:OPAQUE
DTEND;VALUE=DATE:20260516
URL:https://view.news.eu.nasdaq.com/view?id=b5bdea89d457583087197fd92afe8a3
 f5&lang=lv&src=listed
SUMMARY:Rīgas kuģu būvētava: Revidēts gada pārskats
CLASS:PUBLIC
DESCRIPTION:Rīgas kuģu būvētava (RKB)\nRKB1R\nhttps://view.news.eu.nasd
 aq.com/view?id=b5bdea89d457583087197fd92afe8a3f5&lang=lv&src=listed\n
X-MICROSOFT-CDO-ALLDAYEVENT:TRUE
DTSTAMP:20260425T033731Z
END:VEVENT
BEGIN:VEVENT
UID:69ec36fb83450
DTSTART;VALUE=DATE:20260326
SEQUENCE:0
TRANSP:OPAQUE
DTEND;VALUE=DATE:20260501
URL:https://view.news.eu.nasdaq.com/view?id=b21f0315f3aa59eb6b1559660f330e5
 0d&lang=lv&src=listed
SUMMARY:Attīstības finanšu institūcija Altum: Revidēts gada pārskats
CLASS:PUBLIC
DESCRIPTION:Attīstības finanšu institūcija Altum (ALTM)\nhttps://view.n
 ews.eu.nasdaq.com/view?id=b21f0315f3aa59eb6b1559660f330e50d&lang=lv&src=li
 sted\n
X-MICROSOFT-CDO-ALLDAYEVENT:TRUE
DTSTAMP:20260425T033731Z
END:VEVENT
BEGIN:VEVENT
UID:69ec36fb83454
DTSTART;VALUE=DATE:20260326
SEQUENCE:0
TRANSP:OPAQUE
DTEND;VALUE=DATE:20260701
URL:https://view.news.eu.nasdaq.com/view?id=bec7c8931a64b68f4488aec60704e97
 f0&lang=lv&src=listed
SUMMARY:Agrova Baltics: Revidēts gada pārskats
CLASS:PUBLIC
DESCRIPTION:Agrova Baltics (EGG)\nEGG\nhttps://view.news.eu.nasdaq.com/view
 ?id=bec7c8931a64b68f4488aec60704e97f0&lang=lv&src=listed\n
X-MICROSOFT-CDO-ALLDAYEVENT:TRUE
DTSTAMP:20260425T033731Z
END:VEVENT
BEGIN:VEVENT
UID:69ec36fb83458
DTSTART;VALUE=DATE:20260401
SEQUENCE:0
TRANSP:OPAQUE
DTEND;VALUE=DATE:20260701
URL:https://view.news.eu.nasdaq.com/view?id=b2fb3ae8c783506ed843f3f621e9d9a
 10&lang=en&src=notices
SUMMARY:Lietuvos Respublikos Vyriausybė: Valsts vērtspapīru izsole
CLASS:PUBLIC
DESCRIPTION:Lietuvos Respublikos Vyriausybė (LTG)\nhttps://view.news.eu.na
 sdaq.com/view?id=b2fb3ae8c783506ed843f3f621e9d9a10&lang=en&src=notices\n
X-MICROSOFT-CDO-ALLDAYEVENT:TRUE
DTSTAMP:20260425T033731Z
END:VEVENT
BEGIN:VEVENT
UID:69ec36fb8345c
DTSTART;VALUE=DATE:20260420
SEQUENCE:0
TRANSP:OPAQUE
DTEND;VALUE=DATE:20260501
URL:https://view.news.eu.nasdaq.com/view?id=b9dfdcfc667cb5f16d2c40f4f569c91
 c5&lang=lv&src=listed
SUMMARY:Longo Group: Revidēts gada pārskats
CLASS:PUBLIC
DESCRIPTION:Longo Group (LNG)\nhttps://view.news.eu.nasdaq.com/view?id=b9df
 dcfc667cb5f16d2c40f4f569c91c5&lang=lv&src=listed\n
X-MICROSOFT-CDO-ALLDAYEVENT:TRUE
DTSTAMP:20260425T033731Z
END:VEVENT
BEGIN:VEVENT
UID:69ec36fb8345f
DTSTART;VALUE=DATE:20260420
SEQUENCE:0
TRANSP:OPAQUE
DTEND;VALUE=DATE:20260501
URL:https://view.news.eu.nasdaq.com/view?id=bea7b4cc7fc61c8b12a37d42bd50b72
 62&lang=lv&src=listed
SUMMARY:Grenardi Group: Revidēts gada pārskats
CLASS:PUBLIC
DESCRIPTION:Grenardi Group (GREG)\nGREG\nhttps://view.news.eu.nasdaq.com/vi
 ew?id=bea7b4cc7fc61c8b12a37d42bd50b7262&lang=lv&src=listed\n
X-MICROSOFT-CDO-ALLDAYEVENT:TRUE
DTSTAMP:20260425T033731Z
END:VEVENT
BEGIN:VEVENT
UID:69ec36fb83462
DTSTART;VALUE=DATE:20260422
SEQUENCE:0
TRANSP:OPAQUE
DTEND;VALUE=DATE:20260507
URL:https://view.news.eu.nasdaq.com/view?id=b9334a2e4257f1ce944d41c0fa399ae
 12&lang=en&src=notices
SUMMARY:VLI TIMBER: Publiskais piedāvājums
CLASS:PUBLIC
DESCRIPTION:VLI TIMBER (VLI)\nVLIB090028FA\nhttps://view.news.eu.nasdaq.com
 /view?id=b9334a2e4257f1ce944d41c0fa399ae12&lang=en&src=notices\n
X-MICROSOFT-CDO-ALLDAYEVENT:TRUE
DTSTAMP:20260425T033731Z
END:VEVENT
BEGIN:VEVENT
UID:69ec36fb83465
DTSTART;VALUE=DATE:20260423
SEQUENCE:0
TRANSP:OPAQUE
DTEND;VALUE=DATE:20260508
URL:https://view.news.eu.nasdaq.com/view?id=b382ced668dde9e3004f33e4639172f
 b2&lang=en&src=notices
SUMMARY:Liven: Publiskais piedāvājums
CLASS:PUBLIC
DESCRIPTION:Liven (LVN)\nLVN1T\nhttps://view.news.eu.nasdaq.com/view?id=b38
 2ced668dde9e3004f33e4639172fb2&lang=en&src=notices\n
X-MICROSOFT-CDO-ALLDAYEVENT:TRUE
DTSTAMP:20260425T033731Z
END:VEVENT
BEGIN:VEVENT
UID:69ec36fb83468
DTSTART;VALUE=DATE:20260425
SEQUENCE:0
TRANSP:OPAQUE
URL:https://view.news.eu.nasdaq.com/view?id=bae8d499783bc34945de65180570cb4
 cb&lang=lv&src=notices
SUMMARY:DelfinGroup: Kupona izmaksa
CLASS:PUBLIC
DESCRIPTION:DelfinGroup (DGR)\nDGRB100028A\nhttps://view.news.eu.nasdaq.com
 /view?id=bae8d499783bc34945de65180570cb4cb&lang=lv&src=notices\n
X-MICROSOFT-CDO-ALLDAYEVENT:TRUE
DTSTAMP:20260425T033731Z
END:VEVENT
BEGIN:VEVENT
UID:69ec36fb8346a
DTSTART;VALUE=DATE:20260425
SEQUENCE:0
TRANSP:OPAQUE
URL:https://view.news.eu.nasdaq.com/view?id=b37de8ac6e6b1fab5a0e3fd2a0fbe64
 c9&lang=lv&src=notices
SUMMARY:Storent Holding: Kupona izmaksa
CLASS:PUBLIC
DESCRIPTION:Storent Holding (STOH)\nSTOH100028A\nhttps://view.news.eu.nasda
 q.com/view?id=b37de8ac6e6b1fab5a0e3fd2a0fbe64c9&lang=lv&src=notices\n
X-MICROSOFT-CDO-ALLDAYEVENT:TRUE
DTSTAMP:20260425T033731Z
END:VEVENT
BEGIN:VEVENT
UID:69ec36fb8346c
DTSTART;VALUE=DATE:20260425
SEQUENCE:0
TRANSP:OPAQUE
URL:https://view.news.eu.nasdaq.com/view?id=b6c0c110b5d9e233c3ae64bc211469a
 dc&lang=lv&src=notices
SUMMARY:DelfinGroup: Kupona izmaksa
CLASS:PUBLIC
DESCRIPTION:DelfinGroup (DGR)\nDGRBFLOT26FB\nhttps://view.news.eu.nasdaq.co
 m/view?id=b6c0c110b5d9e233c3ae64bc211469adc&lang=lv&src=notices\n
X-MICROSOFT-CDO-ALLDAYEVENT:TRUE
DTSTAMP:20260425T033731Z
END:VEVENT
BEGIN:VEVENT
UID:69ec36fb8346e
DTSTART;VALUE=DATE:20260425
SEQUENCE:0
TRANSP:OPAQUE
URL:https://view.news.eu.nasdaq.com/view?id=b6c0c110b5d9e233c3ae64bc211469a
 dc&lang=lv&src=notices
SUMMARY:DelfinGroup: Kupona izmaksa
CLASS:PUBLIC
DESCRIPTION:DelfinGroup (DGR)\nDGRBFLOT28FA\nhttps://view.news.eu.nasdaq.co
 m/view?id=b6c0c110b5d9e233c3ae64bc211469adc&lang=lv&src=notices\n
X-MICROSOFT-CDO-ALLDAYEVENT:TRUE
DTSTAMP:20260425T033731Z
END:VEVENT
BEGIN:VEVENT
UID:69ec36fb83470
DTSTART;VALUE=DATE:20260425
SEQUENCE:0
TRANSP:OPAQUE
URL:https://view.news.eu.nasdaq.com/view?id=bc4c4842ba602cd3586754a0aaa18c4
 4f&lang=lv&src=notices
SUMMARY:DelfinGroup: Kupona izmaksa
CLASS:PUBLIC
DESCRIPTION:DelfinGroup (DGR)\nDGRBFLOT29FA\nhttps://view.news.eu.nasdaq.co
 m/view?id=bc4c4842ba602cd3586754a0aaa18c44f&lang=lv&src=notices\n
X-MICROSOFT-CDO-ALLDAYEVENT:TRUE
DTSTAMP:20260425T033731Z
END:VEVENT
BEGIN:VEVENT
UID:69ec36fb83472
DTSTART;VALUE=DATE:20260425
SEQUENCE:0
TRANSP:OPAQUE
URL:https://view.news.eu.nasdaq.com/view?id=b77f1d01725faf47b626ef54b14b7d5
 0e&lang=en&src=notices
SUMMARY:UAB Enervia: Kupona izmaksa
CLASS:PUBLIC
DESCRIPTION:UAB Enervia (ENERV)\nENERV110027FA\nhttps://view.news.eu.nasdaq
 .com/view?id=b77f1d01725faf47b626ef54b14b7d50e&lang=en&src=notices\n
X-MICROSOFT-CDO-ALLDAYEVENT:TRUE
DTSTAMP:20260425T033731Z
END:VEVENT
BEGIN:VEVENT
UID:69ec36fb83474
DTSTART;VALUE=DATE:20260425
SEQUENCE:0
TRANSP:OPAQUE
URL:https://view.news.eu.nasdaq.com/view?id=bc0b854b5db7672198d04f589d18451
 0d&lang=lv&src=notices
SUMMARY:DelfinGroup: Kupona izmaksa
CLASS:PUBLIC
DESCRIPTION:DelfinGroup (DGR)\nDGRB095027A\nhttps://view.news.eu.nasdaq.com
 /view?id=bc0b854b5db7672198d04f589d184510d&lang=lv&src=notices\n
X-MICROSOFT-CDO-ALLDAYEVENT:TRUE
DTSTAMP:20260425T033731Z
END:VEVENT
BEGIN:VEVENT
UID:69ec36fb83476
DTSTART;VALUE=DATE:20260426
SEQUENCE:0
TRANSP:OPAQUE
URL:https://cns.omxgroup.com/cdsPublic/viewDisclosure.action?disclosureId=7
 70425&messageId=967622
SUMMARY:Lietuvos Respublikos Vyriausybė: Kupona izmaksa
CLASS:PUBLIC
DESCRIPTION:Lietuvos Respublikos Vyriausybė (LTG)\nLTGB011027A\nhttps://cn
 s.omxgroup.com/cdsPublic/viewDisclosure.action?disclosureId=770425&message
 Id=967622\n
X-MICROSOFT-CDO-ALLDAYEVENT:TRUE
DTSTAMP:20260425T033731Z
END:VEVENT
BEGIN:VEVENT
UID:69ec36fb83478
DTSTART;VALUE=DATE:20260427
SEQUENCE:0
TRANSP:OPAQUE
DTEND;VALUE=DATE:20260501
URL:https://view.news.eu.nasdaq.com/view?id=ba3606ec866dd07dc9fe523af3c1c65
 23&lang=lv&src=listed
SUMMARY:Rīgas kuģu būvētava: Revidēts gada pārskats
CLASS:PUBLIC
DESCRIPTION:Rīgas kuģu būvētava (RKB)\nRKB1R\nhttps://view.news.eu.nasd
 aq.com/view?id=ba3606ec866dd07dc9fe523af3c1c6523&lang=lv&src=listed\n
X-MICROSOFT-CDO-ALLDAYEVENT:TRUE
DTSTAMP:20260425T033731Z
END:VEVENT
BEGIN:VEVENT
UID:69ec36fb8347d
DTSTART;VALUE=DATE:20260427
SEQUENCE:0
TRANSP:OPAQUE
DTEND;VALUE=DATE:20260504
URL:https://view.news.eu.nasdaq.com/view?id=b6431f131e4e064b28b46d9131f8221
 57&lang=en&src=listed
SUMMARY:Nordecon: Revidēts gada pārskats
CLASS:PUBLIC
DESCRIPTION:Nordecon (NCN)\nNCN1T\nhttps://view.news.eu.nasdaq.com/view?id=
 b6431f131e4e064b28b46d9131f822157&lang=en&src=listed\n
X-MICROSOFT-CDO-ALLDAYEVENT:TRUE
DTSTAMP:20260425T033731Z
END:VEVENT
BEGIN:VEVENT
UID:69ec36fb83480
DTSTART;VALUE=DATE:20260427
SEQUENCE:0
TRANSP:OPAQUE
URL:https://view.news.eu.nasdaq.com/view?id=b7cb2f435c0096613b341693c20262f
 df&lang=en&src=listed
SUMMARY:Artea Bankas: Starpperiodu pārskats par 3 mēnešiem
CLASS:PUBLIC
DESCRIPTION:Artea Bankas (ROE1)\nROE1L\nhttps://view.news.eu.nasdaq.com/vie
 w?id=b7cb2f435c0096613b341693c20262fdf&lang=en&src=listed\n
X-MICROSOFT-CDO-ALLDAYEVENT:TRUE
DTSTAMP:20260425T033731Z
END:VEVENT
BEGIN:VEVENT
UID:69ec36fb83482
DTSTART;VALUE=DATE:20260427
SEQUENCE:0
TRANSP:OPAQUE
URL:https://view.news.eu.nasdaq.com/view?id=b411289e5eec3840bbdc22c88b76314
 3a&lang=en&src=listed
SUMMARY:Vilkyškių pieninė: Kārtējā akcionāru sapulce
CLASS:PUBLIC
DESCRIPTION:Vilkyškių pieninė (VLP)\nVLP1L\nhttps://view.news.eu.nasdaq.
 com/view?id=b411289e5eec3840bbdc22c88b763143a&lang=en&src=listed\n
X-MICROSOFT-CDO-ALLDAYEVENT:TRUE
DTSTAMP:20260425T033731Z
END:VEVENT
BEGIN:VEVENT
UID:69ec36fb83484
DTSTART;VALUE=DATE:20260427
SEQUENCE:0
TRANSP:OPAQUE
URL:https://view.news.eu.nasdaq.com/view?id=be1c52c898c32855fab3b7c0683360e
 0b&lang=en&src=listed
SUMMARY:Coop Pank: Dividendes izmaksas datums
CLASS:PUBLIC
DESCRIPTION:Coop Pank (CPA)\nCPA1T\nhttps://view.news.eu.nasdaq.com/view?id
 =be1c52c898c32855fab3b7c0683360e0b&lang=en&src=listed\n
X-MICROSOFT-CDO-ALLDAYEVENT:TRUE
DTSTAMP:20260425T033731Z
END:VEVENT
BEGIN:VEVENT
UID:69ec36fb83485
DTSTART;VALUE=DATE:20260427
SEQUENCE:0
TRANSP:OPAQUE
URL:https://view.news.eu.nasdaq.com/view?id=b9a81e3f7edbec384b7632c3bc32e66
 f9&lang=lv&src=listed
SUMMARY:Augstsprieguma tīkls: Revidēts gada pārskats
CLASS:PUBLIC
DESCRIPTION:Augstsprieguma tīkls (AST)\nhttps://view.news.eu.nasdaq.com/vi
 ew?id=b9a81e3f7edbec384b7632c3bc32e66f9&lang=lv&src=listed\n
X-MICROSOFT-CDO-ALLDAYEVENT:TRUE
DTSTAMP:20260425T033731Z
END:VEVENT
BEGIN:VEVENT
UID:69ec36fb83487
DTSTART;VALUE=DATE:20260427
SEQUENCE:0
TRANSP:OPAQUE
URL:https://view.news.eu.nasdaq.com/view?id=bf6665f11f3aa7a636576a9ac779a0e
 56&lang=en&src=listed
SUMMARY:Artea Bankas: Dividendes izmaksas datums
CLASS:PUBLIC
DESCRIPTION:Artea Bankas (ROE1)\nROE1L\nhttps://view.news.eu.nasdaq.com/vie
 w?id=bf6665f11f3aa7a636576a9ac779a0e56&lang=en&src=listed\n
X-MICROSOFT-CDO-ALLDAYEVENT:TRUE
DTSTAMP:20260425T033731Z
END:VEVENT
BEGIN:VEVENT
UID:69ec36fb83489
DTSTART;VALUE=DATE:20260427
SEQUENCE:0
TRANSP:OPAQUE
URL:https://view.news.eu.nasdaq.com/view?id=b770da57c9052e5e879c69cd1f9aa11
 f7&lang=en&src=notices
SUMMARY:Lietuvos Respublikos Vyriausybė: Valsts vērtspapīru izsole
CLASS:PUBLIC
DESCRIPTION:Lietuvos Respublikos Vyriausybė (LTG)\nLTGCA300031B\nLTGNA3000
 31B\nhttps://view.news.eu.nasdaq.com/view?id=b770da57c9052e5e879c69cd1f9aa
 11f7&lang=en&src=notices\n
X-MICROSOFT-CDO-ALLDAYEVENT:TRUE
DTSTAMP:20260425T033731Z
END:VEVENT
BEGIN:VEVENT
UID:69ec36fb8348b
DTSTART;VALUE=DATE:20260428
SEQUENCE:0
TRANSP:OPAQUE
URL:https://view.news.eu.nasdaq.com/view?id=be090c8b441e30f065008fe851d2c44
 20&lang=en&src=notices
SUMMARY:15min: Kupona izmaksa
CLASS:PUBLIC
DESCRIPTION:15min (15MIN)\n15MIN098026FA\nhttps://view.news.eu.nasdaq.com/v
 iew?id=be090c8b441e30f065008fe851d2c4420&lang=en&src=notices\n
X-MICROSOFT-CDO-ALLDAYEVENT:TRUE
DTSTAMP:20260425T033731Z
END:VEVENT
END:VCALENDAR