BEGIN:VCALENDAR
VERSION:2.0
PRODID:NasdaqBaltic
BEGIN:VEVENT
UID:69e640c71f3f1
DTSTART;VALUE=DATE:20260326
SEQUENCE:0
TRANSP:OPAQUE
DTEND;VALUE=DATE:20260501
URL:https://view.news.eu.nasdaq.com/view?id=b21f0315f3aa59eb6b1559660f330e5
 0d&lang=lv&src=listed
SUMMARY:Attīstības finanšu institūcija Altum: Revidēts gada pārskats
CLASS:PUBLIC
DESCRIPTION:Attīstības finanšu institūcija Altum (ALTM)\nhttps://view.n
 ews.eu.nasdaq.com/view?id=b21f0315f3aa59eb6b1559660f330e50d&lang=lv&src=li
 sted\n
X-MICROSOFT-CDO-ALLDAYEVENT:TRUE
DTSTAMP:20260420T150543Z
END:VEVENT
BEGIN:VEVENT
UID:69e640c71f419
DTSTART;VALUE=DATE:20260326
SEQUENCE:0
TRANSP:OPAQUE
DTEND;VALUE=DATE:20260701
URL:https://view.news.eu.nasdaq.com/view?id=bec7c8931a64b68f4488aec60704e97
 f0&lang=lv&src=listed
SUMMARY:Agrova Baltics: Revidēts gada pārskats
CLASS:PUBLIC
DESCRIPTION:Agrova Baltics (EGG)\nEGG\nhttps://view.news.eu.nasdaq.com/view
 ?id=bec7c8931a64b68f4488aec60704e97f0&lang=lv&src=listed\n
X-MICROSOFT-CDO-ALLDAYEVENT:TRUE
DTSTAMP:20260420T150543Z
END:VEVENT
BEGIN:VEVENT
UID:69e640c71f41d
DTSTART;VALUE=DATE:20260401
SEQUENCE:0
TRANSP:OPAQUE
DTEND;VALUE=DATE:20260701
URL:https://view.news.eu.nasdaq.com/view?id=b2fb3ae8c783506ed843f3f621e9d9a
 10&lang=en&src=notices
SUMMARY:Lietuvos Respublikos Vyriausybė: Valsts vērtspapīru izsole
CLASS:PUBLIC
DESCRIPTION:Lietuvos Respublikos Vyriausybė (LTG)\nhttps://view.news.eu.na
 sdaq.com/view?id=b2fb3ae8c783506ed843f3f621e9d9a10&lang=en&src=notices\n
X-MICROSOFT-CDO-ALLDAYEVENT:TRUE
DTSTAMP:20260420T150543Z
END:VEVENT
BEGIN:VEVENT
UID:69e640c71f421
DTSTART;VALUE=DATE:20260408
SEQUENCE:0
TRANSP:OPAQUE
DTEND;VALUE=DATE:20260423
URL:https://view.news.eu.nasdaq.com/view?id=1432815&lang=lv
SUMMARY:Panevėžio stiklas: Publiskais piedāvājums
CLASS:PUBLIC
DESCRIPTION:Panevėžio stiklas (PNS)\nPNSBOND750\nPNSBOND850\nhttps://view
 .news.eu.nasdaq.com/view?id=1432815&lang=lv\n
X-MICROSOFT-CDO-ALLDAYEVENT:TRUE
DTSTAMP:20260420T150543Z
END:VEVENT
BEGIN:VEVENT
UID:69e640c71f424
DTSTART;VALUE=DATE:20260420
SEQUENCE:0
TRANSP:OPAQUE
DTEND;VALUE=DATE:20260501
URL:https://view.news.eu.nasdaq.com/view?id=b9dfdcfc667cb5f16d2c40f4f569c91
 c5&lang=lv&src=listed
SUMMARY:Longo Group: Revidēts gada pārskats
CLASS:PUBLIC
DESCRIPTION:Longo Group (LNG)\nhttps://view.news.eu.nasdaq.com/view?id=b9df
 dcfc667cb5f16d2c40f4f569c91c5&lang=lv&src=listed\n
X-MICROSOFT-CDO-ALLDAYEVENT:TRUE
DTSTAMP:20260420T150543Z
END:VEVENT
BEGIN:VEVENT
UID:69e640c71f427
DTSTART;VALUE=DATE:20260420
SEQUENCE:0
TRANSP:OPAQUE
URL:https://view.news.eu.nasdaq.com/view?id=b035f406c566e044ceffed4e0215ee0
 bb&lang=lv&src=listed
SUMMARY:VIRŠI-A: Starpperiodu pārskats par 3 mēnešiem
CLASS:PUBLIC
DESCRIPTION:VIRŠI-A (VIRSI)\nVIRSI\nhttps://view.news.eu.nasdaq.com/view?i
 d=b035f406c566e044ceffed4e0215ee0bb&lang=lv&src=listed\n
X-MICROSOFT-CDO-ALLDAYEVENT:TRUE
DTSTAMP:20260420T150543Z
END:VEVENT
BEGIN:VEVENT
UID:69e640c71f429
DTSTART;VALUE=DATE:20260420
SEQUENCE:0
TRANSP:OPAQUE
URL:https://view.news.eu.nasdaq.com/view?id=bb3e4cc0e11349de56340a439d82b86
 90&lang=lv&src=listed
SUMMARY:VIRŠI-A: Revidēts gada pārskats
CLASS:PUBLIC
DESCRIPTION:VIRŠI-A (VIRSI)\nVIRSI\nhttps://view.news.eu.nasdaq.com/view?i
 d=bb3e4cc0e11349de56340a439d82b8690&lang=lv&src=listed\n
X-MICROSOFT-CDO-ALLDAYEVENT:TRUE
DTSTAMP:20260420T150543Z
END:VEVENT
BEGIN:VEVENT
UID:69e640c71f42b
DTSTART;VALUE=DATE:20260420
SEQUENCE:0
TRANSP:OPAQUE
URL:https://view.news.eu.nasdaq.com/view?id=b9aebc6dc4737ac788087464132879c
 69&lang=en&src=notices
SUMMARY:Mano numai: Kupona izmaksa
CLASS:PUBLIC
DESCRIPTION:Mano numai (NUMAI)\nNUMAI080028FA\nhttps://view.news.eu.nasdaq.
 com/view?id=b9aebc6dc4737ac788087464132879c69&lang=en&src=notices\n
X-MICROSOFT-CDO-ALLDAYEVENT:TRUE
DTSTAMP:20260420T150543Z
END:VEVENT
BEGIN:VEVENT
UID:69e640c71f42d
DTSTART;VALUE=DATE:20260420
SEQUENCE:0
TRANSP:OPAQUE
DTEND;VALUE=DATE:20260501
URL:https://view.news.eu.nasdaq.com/view?id=bea7b4cc7fc61c8b12a37d42bd50b72
 62&lang=lv&src=listed
SUMMARY:Grenardi Group: Revidēts gada pārskats
CLASS:PUBLIC
DESCRIPTION:Grenardi Group (GREG)\nGREG\nhttps://view.news.eu.nasdaq.com/vi
 ew?id=bea7b4cc7fc61c8b12a37d42bd50b7262&lang=lv&src=listed\n
X-MICROSOFT-CDO-ALLDAYEVENT:TRUE
DTSTAMP:20260420T150543Z
END:VEVENT
BEGIN:VEVENT
UID:69e640c71f430
DTSTART;VALUE=DATE:20260420
SEQUENCE:0
TRANSP:OPAQUE
URL:https://view.news.eu.nasdaq.com/view?id=b7a6afae20692115c5d881b4b7087a9
 f1&lang=en&src=listed
SUMMARY:Ignitis grupė: Dividendes izmaksas datums
CLASS:PUBLIC
DESCRIPTION:Ignitis grupė (IGN)\nIGNL1\nhttps://view.news.eu.nasdaq.com/vi
 ew?id=b7a6afae20692115c5d881b4b7087a9f1&lang=en&src=listed\n
X-MICROSOFT-CDO-ALLDAYEVENT:TRUE
DTSTAMP:20260420T150543Z
END:VEVENT
BEGIN:VEVENT
UID:69e640c71f432
DTSTART;VALUE=DATE:20260420
SEQUENCE:0
TRANSP:OPAQUE
URL:https://view.news.eu.nasdaq.com/view?id=b0f2f7684e2db102f3f68eafe621d7e
 3f&lang=en&src=notices
SUMMARY:Lietuvos Respublikos Vyriausybė: Valsts vērtspapīru izsole
CLASS:PUBLIC
DESCRIPTION:Lietuvos Respublikos Vyriausybė (LTG)\nLTGCA387533A\nLTGNA3875
 33A\nhttps://view.news.eu.nasdaq.com/view?id=b0f2f7684e2db102f3f68eafe621d
 7e3f&lang=en&src=notices\n
X-MICROSOFT-CDO-ALLDAYEVENT:TRUE
DTSTAMP:20260420T150543Z
END:VEVENT
BEGIN:VEVENT
UID:69e640c71f435
DTSTART;VALUE=DATE:20260421
SEQUENCE:0
TRANSP:OPAQUE
URL:https://view.news.eu.nasdaq.com/view?id=b2ef5f4c615b50322840a248b3d4a9a
 01&lang=en&src=listed
SUMMARY:LHV Group: Starpperiodu pārskats par 3 mēnešiem
CLASS:PUBLIC
DESCRIPTION:LHV Group (LHV)\nLHV\nhttps://view.news.eu.nasdaq.com/view?id=b
 2ef5f4c615b50322840a248b3d4a9a01&lang=en&src=listed\n
X-MICROSOFT-CDO-ALLDAYEVENT:TRUE
DTSTAMP:20260420T150543Z
END:VEVENT
BEGIN:VEVENT
UID:69e640c71f437
DTSTART;VALUE=DATE:20260421
SEQUENCE:0
TRANSP:OPAQUE
URL:https://view.news.eu.nasdaq.com/view?id=be5f085d7e4c53a0376b9b03f4f091a
 58&lang=en&src=notices
SUMMARY:UAB Urbo bankas: Kupona izmaksa
CLASS:PUBLIC
DESCRIPTION:UAB Urbo bankas (URBO)\nURBO070035A\nhttps://view.news.eu.nasda
 q.com/view?id=be5f085d7e4c53a0376b9b03f4f091a58&lang=en&src=notices\n
X-MICROSOFT-CDO-ALLDAYEVENT:TRUE
DTSTAMP:20260420T150543Z
END:VEVENT
BEGIN:VEVENT
UID:69e640c71f438
DTSTART;VALUE=DATE:20260421
SEQUENCE:0
TRANSP:OPAQUE
URL:https://view.news.eu.nasdaq.com/view?id=bc11edaaf67f15225da6cdd58ea3722
 18&lang=en&src=listed
SUMMARY:Liven: Starpperiodu pārskats par 3 mēnešiem
CLASS:PUBLIC
DESCRIPTION:Liven (LVN)\nLVN\nhttps://view.news.eu.nasdaq.com/view?id=bc11e
 daaf67f15225da6cdd58ea372218&lang=en&src=listed\n
X-MICROSOFT-CDO-ALLDAYEVENT:TRUE
DTSTAMP:20260420T150543Z
END:VEVENT
BEGIN:VEVENT
UID:69e640c71f43a
DTSTART;VALUE=DATE:20260421
SEQUENCE:0
TRANSP:OPAQUE
URL:https://view.news.eu.nasdaq.com/view?id=be1c52c898c32855fab3b7c0683360e
 0b&lang=en&src=listed
SUMMARY:Coop Pank: Dividendes ex-datums
CLASS:PUBLIC
DESCRIPTION:Coop Pank (CPA)\nCPA1T\nhttps://view.news.eu.nasdaq.com/view?id
 =be1c52c898c32855fab3b7c0683360e0b&lang=en&src=listed\n
X-MICROSOFT-CDO-ALLDAYEVENT:TRUE
DTSTAMP:20260420T150543Z
END:VEVENT
BEGIN:VEVENT
UID:69e640c71f43d
DTSTART;VALUE=DATE:20260421
SEQUENCE:0
TRANSP:OPAQUE
URL:https://view.news.eu.nasdaq.com/view?id=b71cfd724aa084201aa7e89c4f0944c
 0f&lang=en&src=listed
SUMMARY:EfTEN Real Estate Fund: Dividendes ex-datums
CLASS:PUBLIC
DESCRIPTION:EfTEN Real Estate Fund (EFT)\nEFT1T\nhttps://view.news.eu.nasda
 q.com/view?id=b71cfd724aa084201aa7e89c4f0944c0f&lang=en&src=listed\n
X-MICROSOFT-CDO-ALLDAYEVENT:TRUE
DTSTAMP:20260420T150543Z
END:VEVENT
BEGIN:VEVENT
UID:69e640c71f43e
DTSTART;VALUE=DATE:20260421
SEQUENCE:0
TRANSP:OPAQUE
URL:https://view.news.eu.nasdaq.com/view?id=b33eb79e4e8dca8a49b7dac58385aee
 07&lang=en&src=listed
SUMMARY:LHV Group: Pasākums investoriem
CLASS:PUBLIC
DESCRIPTION:LHV Group (LHV)\nLHV\nhttps://view.news.eu.nasdaq.com/view?id=b
 33eb79e4e8dca8a49b7dac58385aee07&lang=en&src=listed\n
X-MICROSOFT-CDO-ALLDAYEVENT:TRUE
DTSTAMP:20260420T150543Z
END:VEVENT
BEGIN:VEVENT
UID:69e640c71f440
DTSTART;VALUE=DATE:20260421
SEQUENCE:0
TRANSP:OPAQUE
URL:https://view.news.eu.nasdaq.com/view?id=bbb505a01e75936c2291294f2453ce4
 ff&lang=en&src=listed
SUMMARY:Liven: Pasākums investoriem
CLASS:PUBLIC
DESCRIPTION:Liven (LVN)\nLVN\nhttps://view.news.eu.nasdaq.com/view?id=bbb50
 5a01e75936c2291294f2453ce4ff&lang=en&src=listed\n
X-MICROSOFT-CDO-ALLDAYEVENT:TRUE
DTSTAMP:20260420T150543Z
END:VEVENT
BEGIN:VEVENT
UID:69e640c71f442
DTSTART;VALUE=DATE:20260422
SEQUENCE:0
TRANSP:OPAQUE
URL:https://view.news.eu.nasdaq.com/view?id=bd5379bab8b77109dbdf1a988f144b3
 60&lang=en&src=notices
SUMMARY:HISK: Kupona izmaksa
CLASS:PUBLIC
DESCRIPTION:HISK (HISK)\nHISK090028FA\nhttps://view.news.eu.nasdaq.com/view
 ?id=bd5379bab8b77109dbdf1a988f144b360&lang=en&src=notices\n
X-MICROSOFT-CDO-ALLDAYEVENT:TRUE
DTSTAMP:20260420T150543Z
END:VEVENT
BEGIN:VEVENT
UID:69e640c71f444
DTSTART;VALUE=DATE:20260422
SEQUENCE:0
TRANSP:OPAQUE
URL:https://view.news.eu.nasdaq.com/view?id=be1c52c898c32855fab3b7c0683360e
 0b&lang=en&src=listed
SUMMARY:Coop Pank: Dividendes ieraksta datums
CLASS:PUBLIC
DESCRIPTION:Coop Pank (CPA)\nCPA1T\nhttps://view.news.eu.nasdaq.com/view?id
 =be1c52c898c32855fab3b7c0683360e0b&lang=en&src=listed\n
X-MICROSOFT-CDO-ALLDAYEVENT:TRUE
DTSTAMP:20260420T150543Z
END:VEVENT
BEGIN:VEVENT
UID:69e640c71f446
DTSTART;VALUE=DATE:20260422
SEQUENCE:0
TRANSP:OPAQUE
URL:https://view.news.eu.nasdaq.com/view?id=bdb43efabbb0a6abb980d97131284f3
 92&lang=en&src=notices
SUMMARY:Everaus Kinnisvara: Kupona izmaksa
CLASS:PUBLIC
DESCRIPTION:Everaus Kinnisvara (EVK)\nEVKB100028FA\nhttps://view.news.eu.na
 sdaq.com/view?id=bdb43efabbb0a6abb980d97131284f392&lang=en&src=notices\n
X-MICROSOFT-CDO-ALLDAYEVENT:TRUE
DTSTAMP:20260420T150543Z
END:VEVENT
BEGIN:VEVENT
UID:69e640c71f448
DTSTART;VALUE=DATE:20260422
SEQUENCE:0
TRANSP:OPAQUE
URL:https://view.news.eu.nasdaq.com/view?id=b6a4ac8124bb0aa1e5434090e71a41d
 3b&lang=en&src=listed
SUMMARY:Coop Pank: Starpperiodu pārskats par 3 mēnešiem
CLASS:PUBLIC
DESCRIPTION:Coop Pank (CPA)\nCPA\nhttps://view.news.eu.nasdaq.com/view?id=b
 6a4ac8124bb0aa1e5434090e71a41d3b&lang=en&src=listed\n
X-MICROSOFT-CDO-ALLDAYEVENT:TRUE
DTSTAMP:20260420T150543Z
END:VEVENT
BEGIN:VEVENT
UID:69e640c71f44a
DTSTART;VALUE=DATE:20260422
SEQUENCE:0
TRANSP:OPAQUE
URL:https://view.news.eu.nasdaq.com/view?id=b2bdd7f547c633f4150dfabce071611
 b9&lang=en&src=listed
SUMMARY:NEO Finance: Dividendes izmaksas datums
CLASS:PUBLIC
DESCRIPTION:NEO Finance (NEOFI)\nNEOFI\nhttps://view.news.eu.nasdaq.com/vie
 w?id=b2bdd7f547c633f4150dfabce071611b9&lang=en&src=listed\n
X-MICROSOFT-CDO-ALLDAYEVENT:TRUE
DTSTAMP:20260420T150543Z
END:VEVENT
BEGIN:VEVENT
UID:69e640c71f44b
DTSTART;VALUE=DATE:20260422
SEQUENCE:0
TRANSP:OPAQUE
URL:https://view.news.eu.nasdaq.com/view?id=b71cfd724aa084201aa7e89c4f0944c
 0f&lang=en&src=listed
SUMMARY:EfTEN Real Estate Fund: Dividendes ieraksta datums
CLASS:PUBLIC
DESCRIPTION:EfTEN Real Estate Fund (EFT)\nEFT1T\nhttps://view.news.eu.nasda
 q.com/view?id=b71cfd724aa084201aa7e89c4f0944c0f&lang=en&src=listed\n
X-MICROSOFT-CDO-ALLDAYEVENT:TRUE
DTSTAMP:20260420T150543Z
END:VEVENT
BEGIN:VEVENT
UID:69e640c71f44d
DTSTART;VALUE=DATE:20260422
SEQUENCE:0
TRANSP:OPAQUE
URL:https://view.news.eu.nasdaq.com/view?id=b45ed1fd9e572f40372fc0d57bdf089
 3b&lang=en&src=listed
SUMMARY:Coop Pank: Pasākums investoriem
CLASS:PUBLIC
DESCRIPTION:Coop Pank (CPA)\nCPA\nhttps://view.news.eu.nasdaq.com/view?id=b
 45ed1fd9e572f40372fc0d57bdf0893b&lang=en&src=listed\n
X-MICROSOFT-CDO-ALLDAYEVENT:TRUE
DTSTAMP:20260420T150543Z
END:VEVENT
END:VCALENDAR